BEGIN:VCALENDAR
VERSION:2.0
PRODID:-//hacksw/handcal//NONSGML v1.0//EN
CALSCALE:GREGORIAN
BEGIN:VTIMEZONE
TZID:Europe/Berlin
X-LIC-LOCATION:Europe/Berlin
BEGIN:DAYLIGHT
TZOFFSETFROM:+0100
TZOFFSETTO:+0200
TZNAME:CEST
DTSTART:19700329T020000
RRULE:FREQ=YEARLY;BYDAY=-1SU;BYMONTH=3
END:DAYLIGHT
BEGIN:STANDARD
TZOFFSETFROM:+0200
TZOFFSETTO:+0100
TZNAME:CET
DTSTART:19701025T030000
RRULE:FREQ=YEARLY;BYDAY=-1SU;BYMONTH=10
END:STANDARD
END:VTIMEZONE
BEGIN:VEVENT
DTEND;TZID=Europe/Berlin:20250730T160000
UID:69e69fe409c59
DTSTAMP:20260420T235132
LOCATION:Dorfmuseum\, beide Standorte
DESCRIPTION:Wie sah das Leben bei uns vor hundert Jahren aus?  Eine Zeit ohne Fernseher\, Computer und Handy\, dafür mit Grammophon\, Pferden und ganz schön vielen kleinen Dorfläden. Wo arbeiteten die Menschen\, was machten sie in der Freizeit und vor allem: Was machten die Kinder den lieben langen Tag lang in unserem Dorf? Wir tauchen ein in die damalige Welt und gehen den Geschichten der Dinge auf die Spur\, die in unserem Museum gesammelt wurden. Mit dabei: Die Schiefertafel\, auf der Eure Urgroßeltern noch die damalige deutsche Schrift lernten\, ein Blick in die "gute Stube" und Werkzeuge\, die vor vielen Tausend Jahren hier das Überleben sicherten.
URL;VALUE=URI:https://www.unser-ferienprogramm.de/fahrenkrug/veranstaltung.php?id=282844
SUMMARY:Expedition in die Vergangenheit - Wir entdecken unser Dorfmuseum
DTSTART;TZID=Europe/Berlin:20250730T140000
END:VEVENT

END:VCALENDAR
