BEGIN:VCALENDAR
VERSION:2.0
PRODID:-//hacksw/handcal//NONSGML v1.0//EN
CALSCALE:GREGORIAN
BEGIN:VTIMEZONE
TZID:Europe/Berlin
X-LIC-LOCATION:Europe/Berlin
BEGIN:DAYLIGHT
TZOFFSETFROM:+0100
TZOFFSETTO:+0200
TZNAME:CEST
DTSTART:19700329T020000
RRULE:FREQ=YEARLY;BYDAY=-1SU;BYMONTH=3
END:DAYLIGHT
BEGIN:STANDARD
TZOFFSETFROM:+0200
TZOFFSETTO:+0100
TZNAME:CET
DTSTART:19701025T030000
RRULE:FREQ=YEARLY;BYDAY=-1SU;BYMONTH=10
END:STANDARD
END:VTIMEZONE
BEGIN:VEVENT
DTEND;TZID=Europe/Berlin:20250905T170000
UID:69e666ec53631
DTSTAMP:20260420T194828
LOCATION:Schulhof
DESCRIPTION:Wir bauen mit euch ein großes Igelhotel mit mehreren Eingängen und Kammern. Zusätzlich haben wir uns weitere tolle Aktionen rund um den Igel (Tier des Jahres 2024) überlegt. Für die Verpflegung sorgen wir. Hast du Allergien und/oder Unverträglichkeiten? Dann teile uns das im Vorfeld bitte mit. Wir freuen uns auf dich! Die Wählergemeinschaft Fahrenkrug
URL;VALUE=URI:https://www.unser-ferienprogramm.de/fahrenkrug/veranstaltung.php?id=268931
SUMMARY:Wir bauen das „Fahrenkruger Igelhotel“ - angeboten von der Wählergemeinschaft
DTSTART;TZID=Europe/Berlin:20250905T150000
END:VEVENT

END:VCALENDAR
