BEGIN:VCALENDAR
VERSION:2.0
PRODID:-//hacksw/handcal//NONSGML v1.0//EN
CALSCALE:GREGORIAN
BEGIN:VTIMEZONE
TZID:Europe/Berlin
X-LIC-LOCATION:Europe/Berlin
BEGIN:DAYLIGHT
TZOFFSETFROM:+0100
TZOFFSETTO:+0200
TZNAME:CEST
DTSTART:19700329T020000
RRULE:FREQ=YEARLY;BYDAY=-1SU;BYMONTH=3
END:DAYLIGHT
BEGIN:STANDARD
TZOFFSETFROM:+0200
TZOFFSETTO:+0100
TZNAME:CET
DTSTART:19701025T030000
RRULE:FREQ=YEARLY;BYDAY=-1SU;BYMONTH=10
END:STANDARD
END:VTIMEZONE
BEGIN:VEVENT
DTEND;TZID=Europe/Berlin:20250801T194500
UID:69e6a042227b4
DTSTAMP:20260420T235306
LOCATION:Feuerwehrhaus
DESCRIPTION:Du suchst ein abwechslungsreiches Hobby?\r\nDu begeisterst dich für Technik?\r\nDu setzt dich für andere ein?\r\nDu möchtest Spaß erleben?\r\n\r\nDann komm zu unserem Dienst vorbei und lerne die Jugendfeuerwehr kennen.\r\n\r\nSpiel\, Spaß\, Technik und natürlich Feuerwehr!\r\n\r\nWenn du Lust auf Teamwork\, Freundschaft und Interesse an Feuerwehr hast und zwischen 9 und 18 Jahren bist\, dann ist die Jugendfeuerwehr genau das Richtige für dich.\r\nAußer dem reinen Feuerwehrdienst stehen verschiedene Aktionen wie Zeltlager\, Sport\, Spiele oder Fahrten auf dem Dienstplan.\r\nWenn du Lust hast\, komm doch einfach mal vorbei und schau dir das Ganze in Ruhe an.
URL;VALUE=URI:https://www.unser-ferienprogramm.de/fahrenkrug/veranstaltung.php?id=231226
SUMMARY:Dienst der Jugendfeuerwehr
DTSTART;TZID=Europe/Berlin:20250801T174500
END:VEVENT

END:VCALENDAR
