BEGIN:VCALENDAR
VERSION:2.0
PRODID:-//hacksw/handcal//NONSGML v1.0//EN
CALSCALE:GREGORIAN
BEGIN:VTIMEZONE
TZID:Europe/Berlin
X-LIC-LOCATION:Europe/Berlin
BEGIN:DAYLIGHT
TZOFFSETFROM:+0100
TZOFFSETTO:+0200
TZNAME:CEST
DTSTART:19700329T020000
RRULE:FREQ=YEARLY;BYDAY=-1SU;BYMONTH=3
END:DAYLIGHT
BEGIN:STANDARD
TZOFFSETFROM:+0200
TZOFFSETTO:+0100
TZNAME:CET
DTSTART:19701025T030000
RRULE:FREQ=YEARLY;BYDAY=-1SU;BYMONTH=10
END:STANDARD
END:VTIMEZONE
BEGIN:VEVENT
DTEND;TZID=Europe/Berlin:20250808T180000
UID:69e667dfde86d
DTSTAMP:20260420T195231
LOCATION:Segeberger Straße 34
DESCRIPTION:"Keine Angst vor Biskuitböden"...\r\nWir wollen ganz entspannt und lustig klassische Torten\, z.B. Erdbeer- \, Schwarzwälderkirsch- und Nuß/Marzipantorte selber backen\, denn das kann jeder! \r\n\r\nDie Idee zu dieser Veranstaltung ist entstanden als Reaktion auf den Aufruf der Vogelschießer\, bitte Torten für die Cafeteria zu spenden. Toll wäre es\, wenn die Teilnehmer sich anschließend trauen\, für das nächste Vogelschießen eine Torte zu backen und abzugeben.
URL;VALUE=URI:https://www.unser-ferienprogramm.de/fahrenkrug/veranstaltung.php?id=227676
SUMMARY:Torte backen
DTSTART;TZID=Europe/Berlin:20250808T150000
END:VEVENT

END:VCALENDAR
