BEGIN:VCALENDAR
VERSION:2.0
PRODID:-//hacksw/handcal//NONSGML v1.0//EN
CALSCALE:GREGORIAN
BEGIN:VTIMEZONE
TZID:Europe/Berlin
X-LIC-LOCATION:Europe/Berlin
BEGIN:DAYLIGHT
TZOFFSETFROM:+0100
TZOFFSETTO:+0200
TZNAME:CEST
DTSTART:19700329T020000
RRULE:FREQ=YEARLY;BYDAY=-1SU;BYMONTH=3
END:DAYLIGHT
BEGIN:STANDARD
TZOFFSETFROM:+0200
TZOFFSETTO:+0100
TZNAME:CET
DTSTART:19701025T030000
RRULE:FREQ=YEARLY;BYDAY=-1SU;BYMONTH=10
END:STANDARD
END:VTIMEZONE
BEGIN:VEVENT
DTEND;TZID=Europe/Berlin:20260626T190000
UID:69e63f6669670
DTSTAMP:20260420T165950
LOCATION:Schule Fahrenkrug
DESCRIPTION:
URL;VALUE=URI:https://www.unser-ferienprogramm.de/fahrenkrug/veranstaltung.php?id=122289
SUMMARY:Kindervogelschießen Jahrgang 2010 ab 1.8 und Jahrgänge 2011-2013
DTSTART;TZID=Europe/Berlin:20260626T160000
END:VEVENT

END:VCALENDAR
