BEGIN:VCALENDAR
VERSION:2.0
PRODID:-//hacksw/handcal//NONSGML v1.0//EN
CALSCALE:GREGORIAN
BEGIN:VTIMEZONE
TZID:Europe/Berlin
X-LIC-LOCATION:Europe/Berlin
BEGIN:DAYLIGHT
TZOFFSETFROM:+0100
TZOFFSETTO:+0200
TZNAME:CEST
DTSTART:19700329T020000
RRULE:FREQ=YEARLY;BYDAY=-1SU;BYMONTH=3
END:DAYLIGHT
BEGIN:STANDARD
TZOFFSETFROM:+0200
TZOFFSETTO:+0100
TZNAME:CET
DTSTART:19701025T030000
RRULE:FREQ=YEARLY;BYDAY=-1SU;BYMONTH=10
END:STANDARD
END:VTIMEZONE
BEGIN:VEVENT
DTEND;TZID=Europe/Berlin:20270913T153000
UID:69e672e619a8e
DTSTAMP:20260420T203934
LOCATION:Grundschule Ettenheim\, Freiburger Straße 12
DESCRIPTION:
URL;VALUE=URI:https://www.unser-ferienprogramm.de/ettenheim-ferienbetreuung/veranstaltung.php?id=310219
SUMMARY:Ferienbetreuung Schulanfängerwoche Ettenheim
DTSTART;TZID=Europe/Berlin:20270913T073000
END:VEVENT


BEGIN:VEVENT
DTEND;TZID=Europe/Berlin:20270914T153000
UID:69e672e619aa51
DTSTAMP:20260420T203934
LOCATION:Grundschule Ettenheim\, Freiburger Straße 12
DESCRIPTION:
URL;VALUE=URI:https://www.unser-ferienprogramm.de/ettenheim-ferienbetreuung/veranstaltung.php?id=310219
SUMMARY:Ferienbetreuung Schulanfängerwoche Ettenheim
DTSTART;TZID=Europe/Berlin:20270914T073000
END:VEVENT


BEGIN:VEVENT
DTEND;TZID=Europe/Berlin:20270915T153000
UID:69e672e619ab12
DTSTAMP:20260420T203934
LOCATION:Grundschule Ettenheim\, Freiburger Straße 12
DESCRIPTION:
URL;VALUE=URI:https://www.unser-ferienprogramm.de/ettenheim-ferienbetreuung/veranstaltung.php?id=310219
SUMMARY:Ferienbetreuung Schulanfängerwoche Ettenheim
DTSTART;TZID=Europe/Berlin:20270915T073000
END:VEVENT


BEGIN:VEVENT
DTEND;TZID=Europe/Berlin:20270916T153000
UID:69e672e619aba3
DTSTAMP:20260420T203934
LOCATION:Grundschule Ettenheim\, Freiburger Straße 12
DESCRIPTION:
URL;VALUE=URI:https://www.unser-ferienprogramm.de/ettenheim-ferienbetreuung/veranstaltung.php?id=310219
SUMMARY:Ferienbetreuung Schulanfängerwoche Ettenheim
DTSTART;TZID=Europe/Berlin:20270916T073000
END:VEVENT


BEGIN:VEVENT
DTEND;TZID=Europe/Berlin:20270917T153000
UID:69e672e619ac34
DTSTAMP:20260420T203934
LOCATION:Grundschule Ettenheim\, Freiburger Straße 12
DESCRIPTION:
URL;VALUE=URI:https://www.unser-ferienprogramm.de/ettenheim-ferienbetreuung/veranstaltung.php?id=310219
SUMMARY:Ferienbetreuung Schulanfängerwoche Ettenheim
DTSTART;TZID=Europe/Berlin:20270917T073000
END:VEVENT

END:VCALENDAR
