BEGIN:VCALENDAR
VERSION:2.0
PRODID:-//hacksw/handcal//NONSGML v1.0//EN
CALSCALE:GREGORIAN
BEGIN:VTIMEZONE
TZID:Europe/Berlin
X-LIC-LOCATION:Europe/Berlin
BEGIN:DAYLIGHT
TZOFFSETFROM:+0100
TZOFFSETTO:+0200
TZNAME:CEST
DTSTART:19700329T020000
RRULE:FREQ=YEARLY;BYDAY=-1SU;BYMONTH=3
END:DAYLIGHT
BEGIN:STANDARD
TZOFFSETFROM:+0200
TZOFFSETTO:+0100
TZNAME:CET
DTSTART:19701025T030000
RRULE:FREQ=YEARLY;BYDAY=-1SU;BYMONTH=10
END:STANDARD
END:VTIMEZONE
BEGIN:VEVENT
DTEND;TZID=Europe/Berlin:20270906T153000
UID:69e672e5bf0e5
DTSTAMP:20260420T203933
LOCATION:Grundschule Ettenheim\, Freiburger Straße 12
DESCRIPTION:
URL;VALUE=URI:https://www.unser-ferienprogramm.de/ettenheim-ferienbetreuung/veranstaltung.php?id=310218
SUMMARY:Sommerferienbetreuung Ettenheim
DTSTART;TZID=Europe/Berlin:20270906T073000
END:VEVENT


BEGIN:VEVENT
DTEND;TZID=Europe/Berlin:20270907T153000
UID:69e672e5bf1211
DTSTAMP:20260420T203933
LOCATION:Grundschule Ettenheim\, Freiburger Straße 12
DESCRIPTION:
URL;VALUE=URI:https://www.unser-ferienprogramm.de/ettenheim-ferienbetreuung/veranstaltung.php?id=310218
SUMMARY:Sommerferienbetreuung Ettenheim
DTSTART;TZID=Europe/Berlin:20270907T073000
END:VEVENT


BEGIN:VEVENT
DTEND;TZID=Europe/Berlin:20270908T153000
UID:69e672e5bf12d2
DTSTAMP:20260420T203933
LOCATION:Grundschule Ettenheim\, Freiburger Straße 12
DESCRIPTION:
URL;VALUE=URI:https://www.unser-ferienprogramm.de/ettenheim-ferienbetreuung/veranstaltung.php?id=310218
SUMMARY:Sommerferienbetreuung Ettenheim
DTSTART;TZID=Europe/Berlin:20270908T073000
END:VEVENT


BEGIN:VEVENT
DTEND;TZID=Europe/Berlin:20270909T153000
UID:69e672e5bf1373
DTSTAMP:20260420T203933
LOCATION:Grundschule Ettenheim\, Freiburger Straße 12
DESCRIPTION:
URL;VALUE=URI:https://www.unser-ferienprogramm.de/ettenheim-ferienbetreuung/veranstaltung.php?id=310218
SUMMARY:Sommerferienbetreuung Ettenheim
DTSTART;TZID=Europe/Berlin:20270909T073000
END:VEVENT


BEGIN:VEVENT
DTEND;TZID=Europe/Berlin:20270910T153000
UID:69e672e5bf13f4
DTSTAMP:20260420T203933
LOCATION:Grundschule Ettenheim\, Freiburger Straße 12
DESCRIPTION:
URL;VALUE=URI:https://www.unser-ferienprogramm.de/ettenheim-ferienbetreuung/veranstaltung.php?id=310218
SUMMARY:Sommerferienbetreuung Ettenheim
DTSTART;TZID=Europe/Berlin:20270910T073000
END:VEVENT

END:VCALENDAR
