BEGIN:VCALENDAR
VERSION:2.0
PRODID:-//hacksw/handcal//NONSGML v1.0//EN
CALSCALE:GREGORIAN
BEGIN:VTIMEZONE
TZID:Europe/Berlin
X-LIC-LOCATION:Europe/Berlin
BEGIN:DAYLIGHT
TZOFFSETFROM:+0100
TZOFFSETTO:+0200
TZNAME:CEST
DTSTART:19700329T020000
RRULE:FREQ=YEARLY;BYDAY=-1SU;BYMONTH=3
END:DAYLIGHT
BEGIN:STANDARD
TZOFFSETFROM:+0200
TZOFFSETTO:+0100
TZNAME:CET
DTSTART:19701025T030000
RRULE:FREQ=YEARLY;BYDAY=-1SU;BYMONTH=10
END:STANDARD
END:VTIMEZONE
BEGIN:VEVENT
DTEND;TZID=Europe/Berlin:20270823T153000
UID:69e6764181b59
DTSTAMP:20260420T205353
LOCATION:Grundschule Ettenheim\, Freiburger Straße 12
DESCRIPTION:
URL;VALUE=URI:https://www.unser-ferienprogramm.de/ettenheim-ferienbetreuung/veranstaltung.php?id=310216
SUMMARY:Sommerferienbetreuung Ettenheim
DTSTART;TZID=Europe/Berlin:20270823T073000
END:VEVENT


BEGIN:VEVENT
DTEND;TZID=Europe/Berlin:20270824T153000
UID:69e6764181b951
DTSTAMP:20260420T205353
LOCATION:Grundschule Ettenheim\, Freiburger Straße 12
DESCRIPTION:
URL;VALUE=URI:https://www.unser-ferienprogramm.de/ettenheim-ferienbetreuung/veranstaltung.php?id=310216
SUMMARY:Sommerferienbetreuung Ettenheim
DTSTART;TZID=Europe/Berlin:20270824T073000
END:VEVENT


BEGIN:VEVENT
DTEND;TZID=Europe/Berlin:20270825T153000
UID:69e6764181ba22
DTSTAMP:20260420T205353
LOCATION:Grundschule Ettenheim\, Freiburger Straße 12
DESCRIPTION:
URL;VALUE=URI:https://www.unser-ferienprogramm.de/ettenheim-ferienbetreuung/veranstaltung.php?id=310216
SUMMARY:Sommerferienbetreuung Ettenheim
DTSTART;TZID=Europe/Berlin:20270825T073000
END:VEVENT


BEGIN:VEVENT
DTEND;TZID=Europe/Berlin:20270826T153000
UID:69e6764181bac3
DTSTAMP:20260420T205353
LOCATION:Grundschule Ettenheim\, Freiburger Straße 12
DESCRIPTION:
URL;VALUE=URI:https://www.unser-ferienprogramm.de/ettenheim-ferienbetreuung/veranstaltung.php?id=310216
SUMMARY:Sommerferienbetreuung Ettenheim
DTSTART;TZID=Europe/Berlin:20270826T073000
END:VEVENT


BEGIN:VEVENT
DTEND;TZID=Europe/Berlin:20270827T153000
UID:69e6764181bb54
DTSTAMP:20260420T205353
LOCATION:Grundschule Ettenheim\, Freiburger Straße 12
DESCRIPTION:
URL;VALUE=URI:https://www.unser-ferienprogramm.de/ettenheim-ferienbetreuung/veranstaltung.php?id=310216
SUMMARY:Sommerferienbetreuung Ettenheim
DTSTART;TZID=Europe/Berlin:20270827T073000
END:VEVENT

END:VCALENDAR
