BEGIN:VCALENDAR
VERSION:2.0
PRODID:-//hacksw/handcal//NONSGML v1.0//EN
CALSCALE:GREGORIAN
BEGIN:VTIMEZONE
TZID:Europe/Berlin
X-LIC-LOCATION:Europe/Berlin
BEGIN:DAYLIGHT
TZOFFSETFROM:+0100
TZOFFSETTO:+0200
TZNAME:CEST
DTSTART:19700329T020000
RRULE:FREQ=YEARLY;BYDAY=-1SU;BYMONTH=3
END:DAYLIGHT
BEGIN:STANDARD
TZOFFSETFROM:+0200
TZOFFSETTO:+0100
TZNAME:CET
DTSTART:19701025T030000
RRULE:FREQ=YEARLY;BYDAY=-1SU;BYMONTH=10
END:STANDARD
END:VTIMEZONE
BEGIN:VEVENT
DTEND;TZID=Europe/Berlin:20270816T153000
UID:69e67332870ed
DTSTAMP:20260420T204050
LOCATION:Grundschule Ettenheim\, Freiburger Straße 12
DESCRIPTION:
URL;VALUE=URI:https://www.unser-ferienprogramm.de/ettenheim-ferienbetreuung/veranstaltung.php?id=310215
SUMMARY:Sommerferienbetreuung Ettenheim
DTSTART;TZID=Europe/Berlin:20270816T073000
END:VEVENT


BEGIN:VEVENT
DTEND;TZID=Europe/Berlin:20270817T153000
UID:69e67332871201
DTSTAMP:20260420T204050
LOCATION:Grundschule Ettenheim\, Freiburger Straße 12
DESCRIPTION:
URL;VALUE=URI:https://www.unser-ferienprogramm.de/ettenheim-ferienbetreuung/veranstaltung.php?id=310215
SUMMARY:Sommerferienbetreuung Ettenheim
DTSTART;TZID=Europe/Berlin:20270817T073000
END:VEVENT


BEGIN:VEVENT
DTEND;TZID=Europe/Berlin:20270818T153000
UID:69e673328712c2
DTSTAMP:20260420T204050
LOCATION:Grundschule Ettenheim\, Freiburger Straße 12
DESCRIPTION:
URL;VALUE=URI:https://www.unser-ferienprogramm.de/ettenheim-ferienbetreuung/veranstaltung.php?id=310215
SUMMARY:Sommerferienbetreuung Ettenheim
DTSTART;TZID=Europe/Berlin:20270818T073000
END:VEVENT


BEGIN:VEVENT
DTEND;TZID=Europe/Berlin:20270819T153000
UID:69e67332871363
DTSTAMP:20260420T204050
LOCATION:Grundschule Ettenheim\, Freiburger Straße 12
DESCRIPTION:
URL;VALUE=URI:https://www.unser-ferienprogramm.de/ettenheim-ferienbetreuung/veranstaltung.php?id=310215
SUMMARY:Sommerferienbetreuung Ettenheim
DTSTART;TZID=Europe/Berlin:20270819T073000
END:VEVENT


BEGIN:VEVENT
DTEND;TZID=Europe/Berlin:20270820T153000
UID:69e673328713f4
DTSTAMP:20260420T204050
LOCATION:Grundschule Ettenheim\, Freiburger Straße 12
DESCRIPTION:
URL;VALUE=URI:https://www.unser-ferienprogramm.de/ettenheim-ferienbetreuung/veranstaltung.php?id=310215
SUMMARY:Sommerferienbetreuung Ettenheim
DTSTART;TZID=Europe/Berlin:20270820T073000
END:VEVENT

END:VCALENDAR
