BEGIN:VCALENDAR
VERSION:2.0
PRODID:-//hacksw/handcal//NONSGML v1.0//EN
CALSCALE:GREGORIAN
BEGIN:VTIMEZONE
TZID:Europe/Berlin
X-LIC-LOCATION:Europe/Berlin
BEGIN:DAYLIGHT
TZOFFSETFROM:+0100
TZOFFSETTO:+0200
TZNAME:CEST
DTSTART:19700329T020000
RRULE:FREQ=YEARLY;BYDAY=-1SU;BYMONTH=3
END:DAYLIGHT
BEGIN:STANDARD
TZOFFSETFROM:+0200
TZOFFSETTO:+0100
TZNAME:CET
DTSTART:19701025T030000
RRULE:FREQ=YEARLY;BYDAY=-1SU;BYMONTH=10
END:STANDARD
END:VTIMEZONE
BEGIN:VEVENT
DTEND;TZID=Europe/Berlin:20270809T153000
UID:69e67332c25ed
DTSTAMP:20260420T204050
LOCATION:Grundschule Ettenheim\, Freiburger Straße 12
DESCRIPTION:
URL;VALUE=URI:https://www.unser-ferienprogramm.de/ettenheim-ferienbetreuung/veranstaltung.php?id=310214
SUMMARY:Sommerferienbetreuung Ettenheim
DTSTART;TZID=Europe/Berlin:20270809T073000
END:VEVENT


BEGIN:VEVENT
DTEND;TZID=Europe/Berlin:20270810T153000
UID:69e67332c25ff1
DTSTAMP:20260420T204050
LOCATION:Grundschule Ettenheim\, Freiburger Straße 12
DESCRIPTION:
URL;VALUE=URI:https://www.unser-ferienprogramm.de/ettenheim-ferienbetreuung/veranstaltung.php?id=310214
SUMMARY:Sommerferienbetreuung Ettenheim
DTSTART;TZID=Europe/Berlin:20270810T073000
END:VEVENT


BEGIN:VEVENT
DTEND;TZID=Europe/Berlin:20270811T153000
UID:69e67332c26082
DTSTAMP:20260420T204050
LOCATION:Grundschule Ettenheim\, Freiburger Straße 12
DESCRIPTION:
URL;VALUE=URI:https://www.unser-ferienprogramm.de/ettenheim-ferienbetreuung/veranstaltung.php?id=310214
SUMMARY:Sommerferienbetreuung Ettenheim
DTSTART;TZID=Europe/Berlin:20270811T073000
END:VEVENT


BEGIN:VEVENT
DTEND;TZID=Europe/Berlin:20270812T153000
UID:69e67332c260f3
DTSTAMP:20260420T204050
LOCATION:Grundschule Ettenheim\, Freiburger Straße 12
DESCRIPTION:
URL;VALUE=URI:https://www.unser-ferienprogramm.de/ettenheim-ferienbetreuung/veranstaltung.php?id=310214
SUMMARY:Sommerferienbetreuung Ettenheim
DTSTART;TZID=Europe/Berlin:20270812T073000
END:VEVENT


BEGIN:VEVENT
DTEND;TZID=Europe/Berlin:20270813T153000
UID:69e67332c26164
DTSTAMP:20260420T204050
LOCATION:Grundschule Ettenheim\, Freiburger Straße 12
DESCRIPTION:
URL;VALUE=URI:https://www.unser-ferienprogramm.de/ettenheim-ferienbetreuung/veranstaltung.php?id=310214
SUMMARY:Sommerferienbetreuung Ettenheim
DTSTART;TZID=Europe/Berlin:20270813T073000
END:VEVENT

END:VCALENDAR
