BEGIN:VCALENDAR
VERSION:2.0
PRODID:-//hacksw/handcal//NONSGML v1.0//EN
CALSCALE:GREGORIAN
BEGIN:VTIMEZONE
TZID:Europe/Berlin
X-LIC-LOCATION:Europe/Berlin
BEGIN:DAYLIGHT
TZOFFSETFROM:+0100
TZOFFSETTO:+0200
TZNAME:CEST
DTSTART:19700329T020000
RRULE:FREQ=YEARLY;BYDAY=-1SU;BYMONTH=3
END:DAYLIGHT
BEGIN:STANDARD
TZOFFSETFROM:+0200
TZOFFSETTO:+0100
TZNAME:CET
DTSTART:19701025T030000
RRULE:FREQ=YEARLY;BYDAY=-1SU;BYMONTH=10
END:STANDARD
END:VTIMEZONE
BEGIN:VEVENT
DTEND;TZID=Europe/Berlin:20270802T153000
UID:69e672fae83ac
DTSTAMP:20260420T203954
LOCATION:Grundschule Ettenheim\, Freiburger Straße 12
DESCRIPTION:
URL;VALUE=URI:https://www.unser-ferienprogramm.de/ettenheim-ferienbetreuung/veranstaltung.php?id=310213
SUMMARY:Sommerferienbetreuung Ettenheim
DTSTART;TZID=Europe/Berlin:20270802T073000
END:VEVENT


BEGIN:VEVENT
DTEND;TZID=Europe/Berlin:20270803T153000
UID:69e672fae83da1
DTSTAMP:20260420T203954
LOCATION:Grundschule Ettenheim\, Freiburger Straße 12
DESCRIPTION:
URL;VALUE=URI:https://www.unser-ferienprogramm.de/ettenheim-ferienbetreuung/veranstaltung.php?id=310213
SUMMARY:Sommerferienbetreuung Ettenheim
DTSTART;TZID=Europe/Berlin:20270803T073000
END:VEVENT


BEGIN:VEVENT
DTEND;TZID=Europe/Berlin:20270804T153000
UID:69e672fae83e62
DTSTAMP:20260420T203954
LOCATION:Grundschule Ettenheim\, Freiburger Straße 12
DESCRIPTION:
URL;VALUE=URI:https://www.unser-ferienprogramm.de/ettenheim-ferienbetreuung/veranstaltung.php?id=310213
SUMMARY:Sommerferienbetreuung Ettenheim
DTSTART;TZID=Europe/Berlin:20270804T073000
END:VEVENT


BEGIN:VEVENT
DTEND;TZID=Europe/Berlin:20270805T153000
UID:69e672fae83f03
DTSTAMP:20260420T203954
LOCATION:Grundschule Ettenheim\, Freiburger Straße 12
DESCRIPTION:
URL;VALUE=URI:https://www.unser-ferienprogramm.de/ettenheim-ferienbetreuung/veranstaltung.php?id=310213
SUMMARY:Sommerferienbetreuung Ettenheim
DTSTART;TZID=Europe/Berlin:20270805T073000
END:VEVENT


BEGIN:VEVENT
DTEND;TZID=Europe/Berlin:20270806T153000
UID:69e672fae83f94
DTSTAMP:20260420T203954
LOCATION:Grundschule Ettenheim\, Freiburger Straße 12
DESCRIPTION:
URL;VALUE=URI:https://www.unser-ferienprogramm.de/ettenheim-ferienbetreuung/veranstaltung.php?id=310213
SUMMARY:Sommerferienbetreuung Ettenheim
DTSTART;TZID=Europe/Berlin:20270806T073000
END:VEVENT

END:VCALENDAR
