BEGIN:VCALENDAR
VERSION:2.0
PRODID:-//hacksw/handcal//NONSGML v1.0//EN
CALSCALE:GREGORIAN
BEGIN:VTIMEZONE
TZID:Europe/Berlin
X-LIC-LOCATION:Europe/Berlin
BEGIN:DAYLIGHT
TZOFFSETFROM:+0100
TZOFFSETTO:+0200
TZNAME:CEST
DTSTART:19700329T020000
RRULE:FREQ=YEARLY;BYDAY=-1SU;BYMONTH=3
END:DAYLIGHT
BEGIN:STANDARD
TZOFFSETFROM:+0200
TZOFFSETTO:+0100
TZNAME:CET
DTSTART:19701025T030000
RRULE:FREQ=YEARLY;BYDAY=-1SU;BYMONTH=10
END:STANDARD
END:VTIMEZONE
BEGIN:VEVENT
DTEND;TZID=Europe/Berlin:20270524T153000
UID:69e672846d0b9
DTSTAMP:20260420T203756
LOCATION:Grundschule Ettenheim\, Freiburger Straße 12
DESCRIPTION:
URL;VALUE=URI:https://www.unser-ferienprogramm.de/ettenheim-ferienbetreuung/veranstaltung.php?id=310205
SUMMARY:Pfingstferienbetreuung Ettenheim
DTSTART;TZID=Europe/Berlin:20270524T073000
END:VEVENT


BEGIN:VEVENT
DTEND;TZID=Europe/Berlin:20270525T153000
UID:69e672846d0f31
DTSTAMP:20260420T203756
LOCATION:Grundschule Ettenheim\, Freiburger Straße 12
DESCRIPTION:
URL;VALUE=URI:https://www.unser-ferienprogramm.de/ettenheim-ferienbetreuung/veranstaltung.php?id=310205
SUMMARY:Pfingstferienbetreuung Ettenheim
DTSTART;TZID=Europe/Berlin:20270525T073000
END:VEVENT


BEGIN:VEVENT
DTEND;TZID=Europe/Berlin:20270526T153000
UID:69e672846d0ff2
DTSTAMP:20260420T203756
LOCATION:Grundschule Ettenheim\, Freiburger Straße 12
DESCRIPTION:
URL;VALUE=URI:https://www.unser-ferienprogramm.de/ettenheim-ferienbetreuung/veranstaltung.php?id=310205
SUMMARY:Pfingstferienbetreuung Ettenheim
DTSTART;TZID=Europe/Berlin:20270526T073000
END:VEVENT


BEGIN:VEVENT
DTEND;TZID=Europe/Berlin:20270528T153000
UID:69e672846d1093
DTSTAMP:20260420T203756
LOCATION:Grundschule Ettenheim\, Freiburger Straße 12
DESCRIPTION:
URL;VALUE=URI:https://www.unser-ferienprogramm.de/ettenheim-ferienbetreuung/veranstaltung.php?id=310205
SUMMARY:Pfingstferienbetreuung Ettenheim
DTSTART;TZID=Europe/Berlin:20270528T073000
END:VEVENT

END:VCALENDAR
