BEGIN:VCALENDAR
VERSION:2.0
PRODID:-//hacksw/handcal//NONSGML v1.0//EN
CALSCALE:GREGORIAN
BEGIN:VTIMEZONE
TZID:Europe/Berlin
X-LIC-LOCATION:Europe/Berlin
BEGIN:DAYLIGHT
TZOFFSETFROM:+0100
TZOFFSETTO:+0200
TZNAME:CEST
DTSTART:19700329T020000
RRULE:FREQ=YEARLY;BYDAY=-1SU;BYMONTH=3
END:DAYLIGHT
BEGIN:STANDARD
TZOFFSETFROM:+0200
TZOFFSETTO:+0100
TZNAME:CET
DTSTART:19701025T030000
RRULE:FREQ=YEARLY;BYDAY=-1SU;BYMONTH=10
END:STANDARD
END:VTIMEZONE
BEGIN:VEVENT
DTEND;TZID=Europe/Berlin:20261026T153000
UID:69e672899c7b8
DTSTAMP:20260420T203801
LOCATION:Grundschule Ettenheim\, Freiburger Straße 12
DESCRIPTION:
URL;VALUE=URI:https://www.unser-ferienprogramm.de/ettenheim-ferienbetreuung/veranstaltung.php?id=309747
SUMMARY:Herbstferienbetreuung Ettenheim
DTSTART;TZID=Europe/Berlin:20261026T073000
END:VEVENT


BEGIN:VEVENT
DTEND;TZID=Europe/Berlin:20261027T153000
UID:69e672899c7f41
DTSTAMP:20260420T203801
LOCATION:Grundschule Ettenheim\, Freiburger Straße 12
DESCRIPTION:
URL;VALUE=URI:https://www.unser-ferienprogramm.de/ettenheim-ferienbetreuung/veranstaltung.php?id=309747
SUMMARY:Herbstferienbetreuung Ettenheim
DTSTART;TZID=Europe/Berlin:20261027T073000
END:VEVENT


BEGIN:VEVENT
DTEND;TZID=Europe/Berlin:20261028T153000
UID:69e672899c8002
DTSTAMP:20260420T203801
LOCATION:Grundschule Ettenheim\, Freiburger Straße 12
DESCRIPTION:
URL;VALUE=URI:https://www.unser-ferienprogramm.de/ettenheim-ferienbetreuung/veranstaltung.php?id=309747
SUMMARY:Herbstferienbetreuung Ettenheim
DTSTART;TZID=Europe/Berlin:20261028T073000
END:VEVENT


BEGIN:VEVENT
DTEND;TZID=Europe/Berlin:20261029T153000
UID:69e672899c80b3
DTSTAMP:20260420T203801
LOCATION:Grundschule Ettenheim\, Freiburger Straße 12
DESCRIPTION:
URL;VALUE=URI:https://www.unser-ferienprogramm.de/ettenheim-ferienbetreuung/veranstaltung.php?id=309747
SUMMARY:Herbstferienbetreuung Ettenheim
DTSTART;TZID=Europe/Berlin:20261029T073000
END:VEVENT


BEGIN:VEVENT
DTEND;TZID=Europe/Berlin:20261030T153000
UID:69e672899c8154
DTSTAMP:20260420T203801
LOCATION:Grundschule Ettenheim\, Freiburger Straße 12
DESCRIPTION:
URL;VALUE=URI:https://www.unser-ferienprogramm.de/ettenheim-ferienbetreuung/veranstaltung.php?id=309747
SUMMARY:Herbstferienbetreuung Ettenheim
DTSTART;TZID=Europe/Berlin:20261030T073000
END:VEVENT

END:VCALENDAR
