BEGIN:VCALENDAR
VERSION:2.0
PRODID:-//hacksw/handcal//NONSGML v1.0//EN
CALSCALE:GREGORIAN
BEGIN:VTIMEZONE
TZID:Europe/Berlin
X-LIC-LOCATION:Europe/Berlin
BEGIN:DAYLIGHT
TZOFFSETFROM:+0100
TZOFFSETTO:+0200
TZNAME:CEST
DTSTART:19700329T020000
RRULE:FREQ=YEARLY;BYDAY=-1SU;BYMONTH=3
END:DAYLIGHT
BEGIN:STANDARD
TZOFFSETFROM:+0200
TZOFFSETTO:+0100
TZNAME:CET
DTSTART:19701025T030000
RRULE:FREQ=YEARLY;BYDAY=-1SU;BYMONTH=10
END:STANDARD
END:VTIMEZONE
BEGIN:VEVENT
DTEND;TZID=Europe/Berlin:20260406T220000
UID:69e9549f7d634
DTSTAMP:20260423T010711
LOCATION:Real Life Jugendcafé\, Am Bahnhof 1\, Espelkamp
DESCRIPTION:Lust auf einen entspannten\, aber gleichzeitig richtig schönen\, abwechslungsreichen Nachmittag? Beim Real Life Tag feiern wir gemeinsam Ostern. Dich erwarten coole Spiele\, Leinwände bemalen\, gutes kostenloses Essen und ein Thema\, das dich garantiert zum Nachdenken bringt. \r\n\r\nKomm vorbei\, bring deine Freunde mit und lass dich überraschen!\r\n\r\n
URL;VALUE=URI:https://www.unser-ferienprogramm.de/espelkamp/veranstaltung.php?id=310207
SUMMARY:Real Life Tag - Oster Special
DTSTART;TZID=Europe/Berlin:20260406T160000
END:VEVENT

END:VCALENDAR
