BEGIN:VCALENDAR
VERSION:2.0
PRODID:-//hacksw/handcal//NONSGML v1.0//EN
CALSCALE:GREGORIAN
BEGIN:VTIMEZONE
TZID:Europe/Berlin
X-LIC-LOCATION:Europe/Berlin
BEGIN:DAYLIGHT
TZOFFSETFROM:+0100
TZOFFSETTO:+0200
TZNAME:CEST
DTSTART:19700329T020000
RRULE:FREQ=YEARLY;BYDAY=-1SU;BYMONTH=3
END:DAYLIGHT
BEGIN:STANDARD
TZOFFSETFROM:+0200
TZOFFSETTO:+0100
TZNAME:CET
DTSTART:19701025T030000
RRULE:FREQ=YEARLY;BYDAY=-1SU;BYMONTH=10
END:STANDARD
END:VTIMEZONE
BEGIN:VEVENT
DTEND;TZID=Europe/Berlin:20260407T160000
UID:69e95745e8ac6
DTSTAMP:20260423T011829
LOCATION:FunExperience\, Bad Oeynhausen
DESCRIPTION:Bereit für ein bisschen Action? Beim Lasertag könnt ihr euch in coolen Matches auspowern\, in Teams gegeneinander antreten und jede Menge Spaß haben. Hier sind schnelle Reaktionen\, gute Taktik und Zusammenhalt gefragt. Perfekt für alle\, die Lust auf ein actionreiches Erlebnis haben!\r\n
URL;VALUE=URI:https://www.unser-ferienprogramm.de/espelkamp/veranstaltung.php?id=310197
SUMMARY:Lasertag in Bad Oeynhausen
DTSTART;TZID=Europe/Berlin:20260407T090000
END:VEVENT

END:VCALENDAR
