BEGIN:VCALENDAR
VERSION:2.0
PRODID:-//hacksw/handcal//NONSGML v1.0//EN
CALSCALE:GREGORIAN
BEGIN:VTIMEZONE
TZID:Europe/Berlin
X-LIC-LOCATION:Europe/Berlin
BEGIN:DAYLIGHT
TZOFFSETFROM:+0100
TZOFFSETTO:+0200
TZNAME:CEST
DTSTART:19700329T020000
RRULE:FREQ=YEARLY;BYDAY=-1SU;BYMONTH=3
END:DAYLIGHT
BEGIN:STANDARD
TZOFFSETFROM:+0200
TZOFFSETTO:+0100
TZNAME:CET
DTSTART:19701025T030000
RRULE:FREQ=YEARLY;BYDAY=-1SU;BYMONTH=10
END:STANDARD
END:VTIMEZONE
BEGIN:VEVENT
DTEND;TZID=Europe/Berlin:20260401T200000
UID:69e9574581593
DTSTAMP:20260423T011829
LOCATION:Dinosaurierspuren Barkhausen\, Pr. Oldendorf
DESCRIPTION:Bock auf Natur\, Bewegung und ein kleines Abenteuer? Dann komm mit auf unsere Wanderung zu den Dinosaurierspuren! Gemeinsam sind wir unterwegs\, entdecken spannende Orte und genießen die Zeit draußen. Inklusive Essen und guter Gemeinschaft - perfekt\, um mal rauszukommen und etwas Neues zu erleben.\r\n
URL;VALUE=URI:https://www.unser-ferienprogramm.de/espelkamp/veranstaltung.php?id=310189
SUMMARY:Wanderung zu den Dinosaurierspuren
DTSTART;TZID=Europe/Berlin:20260401T130000
END:VEVENT

END:VCALENDAR
