BEGIN:VCALENDAR
VERSION:2.0
PRODID:-//hacksw/handcal//NONSGML v1.0//EN
CALSCALE:GREGORIAN
BEGIN:VTIMEZONE
TZID:Europe/Berlin
X-LIC-LOCATION:Europe/Berlin
BEGIN:DAYLIGHT
TZOFFSETFROM:+0100
TZOFFSETTO:+0200
TZNAME:CEST
DTSTART:19700329T020000
RRULE:FREQ=YEARLY;BYDAY=-1SU;BYMONTH=3
END:DAYLIGHT
BEGIN:STANDARD
TZOFFSETFROM:+0200
TZOFFSETTO:+0100
TZNAME:CET
DTSTART:19701025T030000
RRULE:FREQ=YEARLY;BYDAY=-1SU;BYMONTH=10
END:STANDARD
END:VTIMEZONE
BEGIN:VEVENT
DTEND;TZID=Europe/Berlin:20260408T143000
UID:69e958cca6ab6
DTSTAMP:20260423T012500
LOCATION:Fahrt zum Dinosaurierpark Münchehagen
DESCRIPTION:Exklusiv für Espelkamper Familien\, mit Anspruch auf Leistungen nach dem Bildungs- und Teilhabepaket oder AsylbLG und Besucher der Espelkamper Tafel! \r\n\r\nIm Dino-Park warten 400 lebensechte Rekonstruktionen von Dinosauriern und andern Urzeittieren in Originalgröße auf uns. Dabei sind nicht nur die bekanntesten Vertreter wie Stegosaurus\, Triceratops\, Brachiosaurus und Tyrannosaurus Rex\, sondern zum Beispiel auch die interessantesten ausgestorbenen Tiere der Evolutionsgeschichte. Wir entdecken das Naturdenkmal „Saurierfährten“ mit über 300 versteinerten echten Dinosaurierspuren\, schauen Wissenschaftlern bei der Präparation von Urzeit-Material zu und können im Paleo-Camp Geoden klopfen\, Katzengold suchen oder mit etwas Glück in alten Gesteinsplatten echte Fossilien finden.\r\n\r\n\r\n
URL;VALUE=URI:https://www.unser-ferienprogramm.de/espelkamp/veranstaltung.php?id=302739
SUMMARY:Dinosaurierpark Münchehagen - Familienausflug für BuT-Empfänger
DTSTART;TZID=Europe/Berlin:20260408T090000
END:VEVENT

END:VCALENDAR
