BEGIN:VCALENDAR
VERSION:2.0
PRODID:-//hacksw/handcal//NONSGML v1.0//EN
CALSCALE:GREGORIAN
BEGIN:VTIMEZONE
TZID:Europe/Berlin
X-LIC-LOCATION:Europe/Berlin
BEGIN:DAYLIGHT
TZOFFSETFROM:+0100
TZOFFSETTO:+0200
TZNAME:CEST
DTSTART:19700329T020000
RRULE:FREQ=YEARLY;BYDAY=-1SU;BYMONTH=3
END:DAYLIGHT
BEGIN:STANDARD
TZOFFSETFROM:+0200
TZOFFSETTO:+0100
TZNAME:CET
DTSTART:19701025T030000
RRULE:FREQ=YEARLY;BYDAY=-1SU;BYMONTH=10
END:STANDARD
END:VTIMEZONE
BEGIN:VEVENT
DTEND;TZID=Europe/Berlin:20260812T153000
UID:69e9266f4166c
DTSTAMP:20260422T215007
LOCATION:Fahrt zum Potts Park Minden
DESCRIPTION:Exklusiv für Espelkamper Familien\, mit Anspruch auf Leistungen nach dem Bildungs- und Teilhabepaket oder AsylbLG und Besucher der Espelkamper Tafel!\r\n\r\nMit dem Bus geht es zum Potts Park nach Minden. Im Familien-Erlebnispark ist für alle\, von ganz klein bis ganz groß\, etwas dabei:  von Attraktionen zum selber Mitmachen\, wie zum Beispiel dem Schubkarrenrennen oder dem Wasserspielgarten \, über Fahrgeschäfte wie der Wildwasserbahn oder dem Turbo-Drachen bis zum Science Center „Terra Phänomenalis“ und dem überdachten Kinderland. Mittagssnack inklusive.\r\n
URL;VALUE=URI:https://www.unser-ferienprogramm.de/espelkamp/veranstaltung.php?id=302733
SUMMARY:Pott´s Park - Familienausflug für BuT-Empfänger
DTSTART;TZID=Europe/Berlin:20260812T090000
END:VEVENT

END:VCALENDAR
