BEGIN:VCALENDAR
VERSION:2.0
PRODID:-//hacksw/handcal//NONSGML v1.0//EN
CALSCALE:GREGORIAN
BEGIN:VTIMEZONE
TZID:Europe/Berlin
X-LIC-LOCATION:Europe/Berlin
BEGIN:DAYLIGHT
TZOFFSETFROM:+0100
TZOFFSETTO:+0200
TZNAME:CEST
DTSTART:19700329T020000
RRULE:FREQ=YEARLY;BYDAY=-1SU;BYMONTH=3
END:DAYLIGHT
BEGIN:STANDARD
TZOFFSETFROM:+0200
TZOFFSETTO:+0100
TZNAME:CET
DTSTART:19701025T030000
RRULE:FREQ=YEARLY;BYDAY=-1SU;BYMONTH=10
END:STANDARD
END:VTIMEZONE
BEGIN:VEVENT
DTEND;TZID=Europe/Berlin:20260330T130000
UID:69e958c66b139
DTSTAMP:20260423T012454
LOCATION:Nachbarschaftszentrum im Erlengrund\, Gabelhorst 38\, Espelkamp
DESCRIPTION:In den ersten beiden Tagen kannst in einer Projektwerkstatt kreativ werden\, dich bei sportlichen Aktivitäten so richtig austoben und im Spielbereich mit Gesellschaftsspielen\, Kicker\, Billard oder Air-Hockey Spaß haben.  Am dritten Tag steht dann eine Challenge mit Spielstaffeln und Quiz auf dem Programm. Täglich gibt es eine kleine Pause mit Getränken und einem leckeren Snack.\r\n\r\nAm Donnerstag geht es mit dem Bus auf eine außergewöhnliche Entdeckungstour in die Welt der Wissenschaft: Im Mitmachmuseum Universum Bremen erkunden wir die drei Themenbereiche Technik\, Mensch\, Natur\, erzeugen Blitze\, durchqueren ein dunkles Tastlayrinth\, springen wie ein Jojo oder testen einen Lügendetektor.
URL;VALUE=URI:https://www.unser-ferienprogramm.de/espelkamp/veranstaltung.php?id=302723
SUMMARY:Osterferienspiele im NBZ
DTSTART;TZID=Europe/Berlin:20260330T093000
END:VEVENT


BEGIN:VEVENT
DTEND;TZID=Europe/Berlin:20260331T130000
UID:69e958c66b16e1
DTSTAMP:20260423T012454
LOCATION:Nachbarschaftszentrum im Erlengrund\, Gabelhorst 38\, Espelkamp
DESCRIPTION:In den ersten beiden Tagen kannst in einer Projektwerkstatt kreativ werden\, dich bei sportlichen Aktivitäten so richtig austoben und im Spielbereich mit Gesellschaftsspielen\, Kicker\, Billard oder Air-Hockey Spaß haben.  Am dritten Tag steht dann eine Challenge mit Spielstaffeln und Quiz auf dem Programm. Täglich gibt es eine kleine Pause mit Getränken und einem leckeren Snack.\r\n\r\nAm Donnerstag geht es mit dem Bus auf eine außergewöhnliche Entdeckungstour in die Welt der Wissenschaft: Im Mitmachmuseum Universum Bremen erkunden wir die drei Themenbereiche Technik\, Mensch\, Natur\, erzeugen Blitze\, durchqueren ein dunkles Tastlayrinth\, springen wie ein Jojo oder testen einen Lügendetektor.
URL;VALUE=URI:https://www.unser-ferienprogramm.de/espelkamp/veranstaltung.php?id=302723
SUMMARY:Osterferienspiele im NBZ
DTSTART;TZID=Europe/Berlin:20260331T093000
END:VEVENT


BEGIN:VEVENT
DTEND;TZID=Europe/Berlin:20260401T130000
UID:69e958c66b1802
DTSTAMP:20260423T012454
LOCATION:Nachbarschaftszentrum im Erlengrund\, Gabelhorst 38\, Espelkamp
DESCRIPTION:In den ersten beiden Tagen kannst in einer Projektwerkstatt kreativ werden\, dich bei sportlichen Aktivitäten so richtig austoben und im Spielbereich mit Gesellschaftsspielen\, Kicker\, Billard oder Air-Hockey Spaß haben.  Am dritten Tag steht dann eine Challenge mit Spielstaffeln und Quiz auf dem Programm. Täglich gibt es eine kleine Pause mit Getränken und einem leckeren Snack.\r\n\r\nAm Donnerstag geht es mit dem Bus auf eine außergewöhnliche Entdeckungstour in die Welt der Wissenschaft: Im Mitmachmuseum Universum Bremen erkunden wir die drei Themenbereiche Technik\, Mensch\, Natur\, erzeugen Blitze\, durchqueren ein dunkles Tastlayrinth\, springen wie ein Jojo oder testen einen Lügendetektor.
URL;VALUE=URI:https://www.unser-ferienprogramm.de/espelkamp/veranstaltung.php?id=302723
SUMMARY:Osterferienspiele im NBZ
DTSTART;TZID=Europe/Berlin:20260401T093000
END:VEVENT


BEGIN:VEVENT
DTEND;TZID=Europe/Berlin:20260402T170000
UID:69e958c66b18d3
DTSTAMP:20260423T012454
LOCATION:Nachbarschaftszentrum im Erlengrund\, Gabelhorst 38\, Espelkamp
DESCRIPTION:In den ersten beiden Tagen kannst in einer Projektwerkstatt kreativ werden\, dich bei sportlichen Aktivitäten so richtig austoben und im Spielbereich mit Gesellschaftsspielen\, Kicker\, Billard oder Air-Hockey Spaß haben.  Am dritten Tag steht dann eine Challenge mit Spielstaffeln und Quiz auf dem Programm. Täglich gibt es eine kleine Pause mit Getränken und einem leckeren Snack.\r\n\r\nAm Donnerstag geht es mit dem Bus auf eine außergewöhnliche Entdeckungstour in die Welt der Wissenschaft: Im Mitmachmuseum Universum Bremen erkunden wir die drei Themenbereiche Technik\, Mensch\, Natur\, erzeugen Blitze\, durchqueren ein dunkles Tastlayrinth\, springen wie ein Jojo oder testen einen Lügendetektor.
URL;VALUE=URI:https://www.unser-ferienprogramm.de/espelkamp/veranstaltung.php?id=302723
SUMMARY:Osterferienspiele im NBZ
DTSTART;TZID=Europe/Berlin:20260402T091500
END:VEVENT

END:VCALENDAR
