BEGIN:VCALENDAR
VERSION:2.0
PRODID:-//hacksw/handcal//NONSGML v1.0//EN
CALSCALE:GREGORIAN
BEGIN:VTIMEZONE
TZID:Europe/Berlin
X-LIC-LOCATION:Europe/Berlin
BEGIN:DAYLIGHT
TZOFFSETFROM:+0100
TZOFFSETTO:+0200
TZNAME:CEST
DTSTART:19700329T020000
RRULE:FREQ=YEARLY;BYDAY=-1SU;BYMONTH=3
END:DAYLIGHT
BEGIN:STANDARD
TZOFFSETFROM:+0200
TZOFFSETTO:+0100
TZNAME:CET
DTSTART:19701025T030000
RRULE:FREQ=YEARLY;BYDAY=-1SU;BYMONTH=10
END:STANDARD
END:VTIMEZONE
BEGIN:VEVENT
DTEND;TZID=Europe/Berlin:20260804T140000
UID:69e92976a5b5a
DTSTAMP:20260422T220302
LOCATION:Fahrt zum Abenteuerspielplatz Kuhlandia\, Am Schulzentrum\, Stemwede-Wehdem
DESCRIPTION:Drei Tage\, die es in sich haben\, liegen vor dir: Abenteuer und jede Menge Spaß im Freien\, Natur erleben\, draußen sein\, Buden bauen\, mit Werkzeugen tüfteln\, am Feuer kochen\, Pfeile bauen\, Bogen schießen. Auf dem Abenteuerspielplatz Kuhlandia kannst du dich ausprobieren\, Neues lernen und mit anderen Kindern gemeinsam coole Erlebnisse sammeln. Wir fahren mit dem Bulli vom Nachbarschaftszentrum nach Stemwede. Der Spielplatz liegt direkt gegenüber dem Life House am Schulzentrum. \r\n\r\nWenn du Lust hast\, mit uns diesen Ort im Mühlenkreis zu entdecken\, dann melde dich an! Getränke in Form von Mineralwasser stellen wir bereit. \r\n\r\n
URL;VALUE=URI:https://www.unser-ferienprogramm.de/espelkamp/veranstaltung.php?id=302713
SUMMARY:Ferienspiele on Tour
DTSTART;TZID=Europe/Berlin:20260804T091500
END:VEVENT


BEGIN:VEVENT
DTEND;TZID=Europe/Berlin:20260805T140000
UID:69e92976a5b9a1
DTSTAMP:20260422T220302
LOCATION:Fahrt zum Abenteuerspielplatz Kuhlandia\, Am Schulzentrum\, Stemwede-Wehdem
DESCRIPTION:Drei Tage\, die es in sich haben\, liegen vor dir: Abenteuer und jede Menge Spaß im Freien\, Natur erleben\, draußen sein\, Buden bauen\, mit Werkzeugen tüfteln\, am Feuer kochen\, Pfeile bauen\, Bogen schießen. Auf dem Abenteuerspielplatz Kuhlandia kannst du dich ausprobieren\, Neues lernen und mit anderen Kindern gemeinsam coole Erlebnisse sammeln. Wir fahren mit dem Bulli vom Nachbarschaftszentrum nach Stemwede. Der Spielplatz liegt direkt gegenüber dem Life House am Schulzentrum. \r\n\r\nWenn du Lust hast\, mit uns diesen Ort im Mühlenkreis zu entdecken\, dann melde dich an! Getränke in Form von Mineralwasser stellen wir bereit. \r\n\r\n
URL;VALUE=URI:https://www.unser-ferienprogramm.de/espelkamp/veranstaltung.php?id=302713
SUMMARY:Ferienspiele on Tour
DTSTART;TZID=Europe/Berlin:20260805T091500
END:VEVENT


BEGIN:VEVENT
DTEND;TZID=Europe/Berlin:20260806T140000
UID:69e92976a5baa2
DTSTAMP:20260422T220302
LOCATION:Fahrt zum Abenteuerspielplatz Kuhlandia\, Am Schulzentrum\, Stemwede-Wehdem
DESCRIPTION:Drei Tage\, die es in sich haben\, liegen vor dir: Abenteuer und jede Menge Spaß im Freien\, Natur erleben\, draußen sein\, Buden bauen\, mit Werkzeugen tüfteln\, am Feuer kochen\, Pfeile bauen\, Bogen schießen. Auf dem Abenteuerspielplatz Kuhlandia kannst du dich ausprobieren\, Neues lernen und mit anderen Kindern gemeinsam coole Erlebnisse sammeln. Wir fahren mit dem Bulli vom Nachbarschaftszentrum nach Stemwede. Der Spielplatz liegt direkt gegenüber dem Life House am Schulzentrum. \r\n\r\nWenn du Lust hast\, mit uns diesen Ort im Mühlenkreis zu entdecken\, dann melde dich an! Getränke in Form von Mineralwasser stellen wir bereit. \r\n\r\n
URL;VALUE=URI:https://www.unser-ferienprogramm.de/espelkamp/veranstaltung.php?id=302713
SUMMARY:Ferienspiele on Tour
DTSTART;TZID=Europe/Berlin:20260806T091500
END:VEVENT

END:VCALENDAR
