BEGIN:VCALENDAR
VERSION:2.0
PRODID:-//hacksw/handcal//NONSGML v1.0//EN
CALSCALE:GREGORIAN
BEGIN:VTIMEZONE
TZID:Europe/Berlin
X-LIC-LOCATION:Europe/Berlin
BEGIN:DAYLIGHT
TZOFFSETFROM:+0100
TZOFFSETTO:+0200
TZNAME:CEST
DTSTART:19700329T020000
RRULE:FREQ=YEARLY;BYDAY=-1SU;BYMONTH=3
END:DAYLIGHT
BEGIN:STANDARD
TZOFFSETFROM:+0200
TZOFFSETTO:+0100
TZNAME:CET
DTSTART:19701025T030000
RRULE:FREQ=YEARLY;BYDAY=-1SU;BYMONTH=10
END:STANDARD
END:VTIMEZONE
BEGIN:VEVENT
DTEND;TZID=Europe/Berlin:20260810T130000
UID:69e926584c62d
DTSTAMP:20260422T214944
LOCATION:Nachbarschaftszentrum im Erlengrund\, Gabelhorst 38\, Espelkamp
DESCRIPTION:Hast du Lust auf eine entspannte\, lustige und interessante Woche gemeinsam mit anderen Mädchen? Wir verbringen Montag und Dienstag Zeit mit gemeinsamen Spielen\, damit ihr euch besser kennenlernen könnt. Gemeinsam mit euch wollen wir Papier schöpfen und daraus coole kreative Kleinigkeiten gestalten. Außerdem könnt ihr in unseren Räumen und draußen euren eigenen Interessen (Spielen\, Quatschen\, Musik … ) nachgehen.\r\n\r\nMittwoch machen wir eine Tagesfahrt. Mit der Euro-Bahn geht es nach Bielefeld. Wir wollen bummeln\, shoppen und zusammen oder in kleinen Gruppen die Stadt erkunden. Am Donnerstag machen wir eine Übernachtungsparty: Zusammen kochen und essen\, spielen\, Musik hören\, einen Film sehen\, lange aufbleiben und ein bisschen schlafen. Am Freitag endet die Mädchenwoche mit einem gemütlichen Frühstück. \r\n\r\n\r\n\r\n
URL;VALUE=URI:https://www.unser-ferienprogramm.de/espelkamp/veranstaltung.php?id=302707
SUMMARY:Mädchen unter sich
DTSTART;TZID=Europe/Berlin:20260810T100000
END:VEVENT


BEGIN:VEVENT
DTEND;TZID=Europe/Berlin:20260811T130000
UID:69e926584c64b1
DTSTAMP:20260422T214944
LOCATION:Nachbarschaftszentrum im Erlengrund\, Gabelhorst 38\, Espelkamp
DESCRIPTION:Hast du Lust auf eine entspannte\, lustige und interessante Woche gemeinsam mit anderen Mädchen? Wir verbringen Montag und Dienstag Zeit mit gemeinsamen Spielen\, damit ihr euch besser kennenlernen könnt. Gemeinsam mit euch wollen wir Papier schöpfen und daraus coole kreative Kleinigkeiten gestalten. Außerdem könnt ihr in unseren Räumen und draußen euren eigenen Interessen (Spielen\, Quatschen\, Musik … ) nachgehen.\r\n\r\nMittwoch machen wir eine Tagesfahrt. Mit der Euro-Bahn geht es nach Bielefeld. Wir wollen bummeln\, shoppen und zusammen oder in kleinen Gruppen die Stadt erkunden. Am Donnerstag machen wir eine Übernachtungsparty: Zusammen kochen und essen\, spielen\, Musik hören\, einen Film sehen\, lange aufbleiben und ein bisschen schlafen. Am Freitag endet die Mädchenwoche mit einem gemütlichen Frühstück. \r\n\r\n\r\n\r\n
URL;VALUE=URI:https://www.unser-ferienprogramm.de/espelkamp/veranstaltung.php?id=302707
SUMMARY:Mädchen unter sich
DTSTART;TZID=Europe/Berlin:20260811T100000
END:VEVENT


BEGIN:VEVENT
DTEND;TZID=Europe/Berlin:20260812T000000
UID:69e926584c65d2
DTSTAMP:20260422T214944
LOCATION:Nachbarschaftszentrum im Erlengrund\, Gabelhorst 38\, Espelkamp
DESCRIPTION:Hast du Lust auf eine entspannte\, lustige und interessante Woche gemeinsam mit anderen Mädchen? Wir verbringen Montag und Dienstag Zeit mit gemeinsamen Spielen\, damit ihr euch besser kennenlernen könnt. Gemeinsam mit euch wollen wir Papier schöpfen und daraus coole kreative Kleinigkeiten gestalten. Außerdem könnt ihr in unseren Räumen und draußen euren eigenen Interessen (Spielen\, Quatschen\, Musik … ) nachgehen.\r\n\r\nMittwoch machen wir eine Tagesfahrt. Mit der Euro-Bahn geht es nach Bielefeld. Wir wollen bummeln\, shoppen und zusammen oder in kleinen Gruppen die Stadt erkunden. Am Donnerstag machen wir eine Übernachtungsparty: Zusammen kochen und essen\, spielen\, Musik hören\, einen Film sehen\, lange aufbleiben und ein bisschen schlafen. Am Freitag endet die Mädchenwoche mit einem gemütlichen Frühstück. \r\n\r\n\r\n\r\n
URL;VALUE=URI:https://www.unser-ferienprogramm.de/espelkamp/veranstaltung.php?id=302707
SUMMARY:Mädchen unter sich
DTSTART;TZID=Europe/Berlin:20260812T000000
END:VEVENT


BEGIN:VEVENT
DTEND;TZID=Europe/Berlin:20260814T100000
UID:69e926584c66b3
DTSTAMP:20260422T214944
LOCATION:Nachbarschaftszentrum im Erlengrund\, Gabelhorst 38\, Espelkamp
DESCRIPTION:Hast du Lust auf eine entspannte\, lustige und interessante Woche gemeinsam mit anderen Mädchen? Wir verbringen Montag und Dienstag Zeit mit gemeinsamen Spielen\, damit ihr euch besser kennenlernen könnt. Gemeinsam mit euch wollen wir Papier schöpfen und daraus coole kreative Kleinigkeiten gestalten. Außerdem könnt ihr in unseren Räumen und draußen euren eigenen Interessen (Spielen\, Quatschen\, Musik … ) nachgehen.\r\n\r\nMittwoch machen wir eine Tagesfahrt. Mit der Euro-Bahn geht es nach Bielefeld. Wir wollen bummeln\, shoppen und zusammen oder in kleinen Gruppen die Stadt erkunden. Am Donnerstag machen wir eine Übernachtungsparty: Zusammen kochen und essen\, spielen\, Musik hören\, einen Film sehen\, lange aufbleiben und ein bisschen schlafen. Am Freitag endet die Mädchenwoche mit einem gemütlichen Frühstück. \r\n\r\n\r\n\r\n
URL;VALUE=URI:https://www.unser-ferienprogramm.de/espelkamp/veranstaltung.php?id=302707
SUMMARY:Mädchen unter sich
DTSTART;TZID=Europe/Berlin:20260813T170000
END:VEVENT

END:VCALENDAR
