BEGIN:VCALENDAR
VERSION:2.0
PRODID:-//hacksw/handcal//NONSGML v1.0//EN
CALSCALE:GREGORIAN
BEGIN:VTIMEZONE
TZID:Europe/Berlin
X-LIC-LOCATION:Europe/Berlin
BEGIN:DAYLIGHT
TZOFFSETFROM:+0100
TZOFFSETTO:+0200
TZNAME:CEST
DTSTART:19700329T020000
RRULE:FREQ=YEARLY;BYDAY=-1SU;BYMONTH=3
END:DAYLIGHT
BEGIN:STANDARD
TZOFFSETFROM:+0200
TZOFFSETTO:+0100
TZNAME:CET
DTSTART:19701025T030000
RRULE:FREQ=YEARLY;BYDAY=-1SU;BYMONTH=10
END:STANDARD
END:VTIMEZONE
BEGIN:VEVENT
DTEND;TZID=Europe/Berlin:20260720T130000
UID:69e9297645b8e
DTSTAMP:20260422T220302
LOCATION:Nachbarschaftszentrum im Erlengrund\, Gabelhorst 38\, Espelkamp
DESCRIPTION:Ganze zwei Wochen Sommerferien haben wir Zeit für unser Abenteuer. Werden wir es schaffen\, einmal um die Welt zu reisen? Auf dem Weg gilt es nicht nur schnell zu sein\, sondern auch viele Hindernisse\, die uns begegnen\, geschickt zu bewältigen und kniffelige Rätsel zu lösen. Dabei lernen wir fremde Länder und ihre Besonderheiten kennen und werden mit jedem Abenteuertag eine verschworenere Reisegruppe! Wenn du mit uns auf diese besondere Weltreise gehen möchtest\, dann melde dich an. Erfrischungsgetränke und Minisnack inklusive.\r\n\r\nAm Ende unserer Reise steht eine Übernachtungsaktion: von Donnerstag\, ab 17.00 Uhr bis Freitag um 10.00 Uhr. Weitere Infos hierzu folgen während des Ferienangebotes
URL;VALUE=URI:https://www.unser-ferienprogramm.de/espelkamp/veranstaltung.php?id=302700
SUMMARY:In 8 Tagen um die Welt - Komm mit auf eine abenteuerliche (Ferien)-Reise 
DTSTART;TZID=Europe/Berlin:20260720T093000
END:VEVENT


BEGIN:VEVENT
DTEND;TZID=Europe/Berlin:20260721T130000
UID:69e9297645ba11
DTSTAMP:20260422T220302
LOCATION:Nachbarschaftszentrum im Erlengrund\, Gabelhorst 38\, Espelkamp
DESCRIPTION:Ganze zwei Wochen Sommerferien haben wir Zeit für unser Abenteuer. Werden wir es schaffen\, einmal um die Welt zu reisen? Auf dem Weg gilt es nicht nur schnell zu sein\, sondern auch viele Hindernisse\, die uns begegnen\, geschickt zu bewältigen und kniffelige Rätsel zu lösen. Dabei lernen wir fremde Länder und ihre Besonderheiten kennen und werden mit jedem Abenteuertag eine verschworenere Reisegruppe! Wenn du mit uns auf diese besondere Weltreise gehen möchtest\, dann melde dich an. Erfrischungsgetränke und Minisnack inklusive.\r\n\r\nAm Ende unserer Reise steht eine Übernachtungsaktion: von Donnerstag\, ab 17.00 Uhr bis Freitag um 10.00 Uhr. Weitere Infos hierzu folgen während des Ferienangebotes
URL;VALUE=URI:https://www.unser-ferienprogramm.de/espelkamp/veranstaltung.php?id=302700
SUMMARY:In 8 Tagen um die Welt - Komm mit auf eine abenteuerliche (Ferien)-Reise 
DTSTART;TZID=Europe/Berlin:20260721T093000
END:VEVENT


BEGIN:VEVENT
DTEND;TZID=Europe/Berlin:20260722T130000
UID:69e9297645baa2
DTSTAMP:20260422T220302
LOCATION:Nachbarschaftszentrum im Erlengrund\, Gabelhorst 38\, Espelkamp
DESCRIPTION:Ganze zwei Wochen Sommerferien haben wir Zeit für unser Abenteuer. Werden wir es schaffen\, einmal um die Welt zu reisen? Auf dem Weg gilt es nicht nur schnell zu sein\, sondern auch viele Hindernisse\, die uns begegnen\, geschickt zu bewältigen und kniffelige Rätsel zu lösen. Dabei lernen wir fremde Länder und ihre Besonderheiten kennen und werden mit jedem Abenteuertag eine verschworenere Reisegruppe! Wenn du mit uns auf diese besondere Weltreise gehen möchtest\, dann melde dich an. Erfrischungsgetränke und Minisnack inklusive.\r\n\r\nAm Ende unserer Reise steht eine Übernachtungsaktion: von Donnerstag\, ab 17.00 Uhr bis Freitag um 10.00 Uhr. Weitere Infos hierzu folgen während des Ferienangebotes
URL;VALUE=URI:https://www.unser-ferienprogramm.de/espelkamp/veranstaltung.php?id=302700
SUMMARY:In 8 Tagen um die Welt - Komm mit auf eine abenteuerliche (Ferien)-Reise 
DTSTART;TZID=Europe/Berlin:20260722T093000
END:VEVENT


BEGIN:VEVENT
DTEND;TZID=Europe/Berlin:20260723T130000
UID:69e9297645bb23
DTSTAMP:20260422T220302
LOCATION:Nachbarschaftszentrum im Erlengrund\, Gabelhorst 38\, Espelkamp
DESCRIPTION:Ganze zwei Wochen Sommerferien haben wir Zeit für unser Abenteuer. Werden wir es schaffen\, einmal um die Welt zu reisen? Auf dem Weg gilt es nicht nur schnell zu sein\, sondern auch viele Hindernisse\, die uns begegnen\, geschickt zu bewältigen und kniffelige Rätsel zu lösen. Dabei lernen wir fremde Länder und ihre Besonderheiten kennen und werden mit jedem Abenteuertag eine verschworenere Reisegruppe! Wenn du mit uns auf diese besondere Weltreise gehen möchtest\, dann melde dich an. Erfrischungsgetränke und Minisnack inklusive.\r\n\r\nAm Ende unserer Reise steht eine Übernachtungsaktion: von Donnerstag\, ab 17.00 Uhr bis Freitag um 10.00 Uhr. Weitere Infos hierzu folgen während des Ferienangebotes
URL;VALUE=URI:https://www.unser-ferienprogramm.de/espelkamp/veranstaltung.php?id=302700
SUMMARY:In 8 Tagen um die Welt - Komm mit auf eine abenteuerliche (Ferien)-Reise 
DTSTART;TZID=Europe/Berlin:20260723T093000
END:VEVENT


BEGIN:VEVENT
DTEND;TZID=Europe/Berlin:20260724T130000
UID:69e9297645bb94
DTSTAMP:20260422T220302
LOCATION:Nachbarschaftszentrum im Erlengrund\, Gabelhorst 38\, Espelkamp
DESCRIPTION:Ganze zwei Wochen Sommerferien haben wir Zeit für unser Abenteuer. Werden wir es schaffen\, einmal um die Welt zu reisen? Auf dem Weg gilt es nicht nur schnell zu sein\, sondern auch viele Hindernisse\, die uns begegnen\, geschickt zu bewältigen und kniffelige Rätsel zu lösen. Dabei lernen wir fremde Länder und ihre Besonderheiten kennen und werden mit jedem Abenteuertag eine verschworenere Reisegruppe! Wenn du mit uns auf diese besondere Weltreise gehen möchtest\, dann melde dich an. Erfrischungsgetränke und Minisnack inklusive.\r\n\r\nAm Ende unserer Reise steht eine Übernachtungsaktion: von Donnerstag\, ab 17.00 Uhr bis Freitag um 10.00 Uhr. Weitere Infos hierzu folgen während des Ferienangebotes
URL;VALUE=URI:https://www.unser-ferienprogramm.de/espelkamp/veranstaltung.php?id=302700
SUMMARY:In 8 Tagen um die Welt - Komm mit auf eine abenteuerliche (Ferien)-Reise 
DTSTART;TZID=Europe/Berlin:20260724T093000
END:VEVENT


BEGIN:VEVENT
DTEND;TZID=Europe/Berlin:20260727T130000
UID:69e9297645bc05
DTSTAMP:20260422T220302
LOCATION:Nachbarschaftszentrum im Erlengrund\, Gabelhorst 38\, Espelkamp
DESCRIPTION:Ganze zwei Wochen Sommerferien haben wir Zeit für unser Abenteuer. Werden wir es schaffen\, einmal um die Welt zu reisen? Auf dem Weg gilt es nicht nur schnell zu sein\, sondern auch viele Hindernisse\, die uns begegnen\, geschickt zu bewältigen und kniffelige Rätsel zu lösen. Dabei lernen wir fremde Länder und ihre Besonderheiten kennen und werden mit jedem Abenteuertag eine verschworenere Reisegruppe! Wenn du mit uns auf diese besondere Weltreise gehen möchtest\, dann melde dich an. Erfrischungsgetränke und Minisnack inklusive.\r\n\r\nAm Ende unserer Reise steht eine Übernachtungsaktion: von Donnerstag\, ab 17.00 Uhr bis Freitag um 10.00 Uhr. Weitere Infos hierzu folgen während des Ferienangebotes
URL;VALUE=URI:https://www.unser-ferienprogramm.de/espelkamp/veranstaltung.php?id=302700
SUMMARY:In 8 Tagen um die Welt - Komm mit auf eine abenteuerliche (Ferien)-Reise 
DTSTART;TZID=Europe/Berlin:20260727T093000
END:VEVENT


BEGIN:VEVENT
DTEND;TZID=Europe/Berlin:20260728T130000
UID:69e9297645bc66
DTSTAMP:20260422T220302
LOCATION:Nachbarschaftszentrum im Erlengrund\, Gabelhorst 38\, Espelkamp
DESCRIPTION:Ganze zwei Wochen Sommerferien haben wir Zeit für unser Abenteuer. Werden wir es schaffen\, einmal um die Welt zu reisen? Auf dem Weg gilt es nicht nur schnell zu sein\, sondern auch viele Hindernisse\, die uns begegnen\, geschickt zu bewältigen und kniffelige Rätsel zu lösen. Dabei lernen wir fremde Länder und ihre Besonderheiten kennen und werden mit jedem Abenteuertag eine verschworenere Reisegruppe! Wenn du mit uns auf diese besondere Weltreise gehen möchtest\, dann melde dich an. Erfrischungsgetränke und Minisnack inklusive.\r\n\r\nAm Ende unserer Reise steht eine Übernachtungsaktion: von Donnerstag\, ab 17.00 Uhr bis Freitag um 10.00 Uhr. Weitere Infos hierzu folgen während des Ferienangebotes
URL;VALUE=URI:https://www.unser-ferienprogramm.de/espelkamp/veranstaltung.php?id=302700
SUMMARY:In 8 Tagen um die Welt - Komm mit auf eine abenteuerliche (Ferien)-Reise 
DTSTART;TZID=Europe/Berlin:20260728T093000
END:VEVENT


BEGIN:VEVENT
DTEND;TZID=Europe/Berlin:20260729T130000
UID:69e9297645bcd7
DTSTAMP:20260422T220302
LOCATION:Nachbarschaftszentrum im Erlengrund\, Gabelhorst 38\, Espelkamp
DESCRIPTION:Ganze zwei Wochen Sommerferien haben wir Zeit für unser Abenteuer. Werden wir es schaffen\, einmal um die Welt zu reisen? Auf dem Weg gilt es nicht nur schnell zu sein\, sondern auch viele Hindernisse\, die uns begegnen\, geschickt zu bewältigen und kniffelige Rätsel zu lösen. Dabei lernen wir fremde Länder und ihre Besonderheiten kennen und werden mit jedem Abenteuertag eine verschworenere Reisegruppe! Wenn du mit uns auf diese besondere Weltreise gehen möchtest\, dann melde dich an. Erfrischungsgetränke und Minisnack inklusive.\r\n\r\nAm Ende unserer Reise steht eine Übernachtungsaktion: von Donnerstag\, ab 17.00 Uhr bis Freitag um 10.00 Uhr. Weitere Infos hierzu folgen während des Ferienangebotes
URL;VALUE=URI:https://www.unser-ferienprogramm.de/espelkamp/veranstaltung.php?id=302700
SUMMARY:In 8 Tagen um die Welt - Komm mit auf eine abenteuerliche (Ferien)-Reise 
DTSTART;TZID=Europe/Berlin:20260729T093000
END:VEVENT


BEGIN:VEVENT
DTEND;TZID=Europe/Berlin:20260731T100000
UID:69e9297645bd48
DTSTAMP:20260422T220302
LOCATION:Nachbarschaftszentrum im Erlengrund\, Gabelhorst 38\, Espelkamp
DESCRIPTION:Ganze zwei Wochen Sommerferien haben wir Zeit für unser Abenteuer. Werden wir es schaffen\, einmal um die Welt zu reisen? Auf dem Weg gilt es nicht nur schnell zu sein\, sondern auch viele Hindernisse\, die uns begegnen\, geschickt zu bewältigen und kniffelige Rätsel zu lösen. Dabei lernen wir fremde Länder und ihre Besonderheiten kennen und werden mit jedem Abenteuertag eine verschworenere Reisegruppe! Wenn du mit uns auf diese besondere Weltreise gehen möchtest\, dann melde dich an. Erfrischungsgetränke und Minisnack inklusive.\r\n\r\nAm Ende unserer Reise steht eine Übernachtungsaktion: von Donnerstag\, ab 17.00 Uhr bis Freitag um 10.00 Uhr. Weitere Infos hierzu folgen während des Ferienangebotes
URL;VALUE=URI:https://www.unser-ferienprogramm.de/espelkamp/veranstaltung.php?id=302700
SUMMARY:In 8 Tagen um die Welt - Komm mit auf eine abenteuerliche (Ferien)-Reise 
DTSTART;TZID=Europe/Berlin:20260730T170000
END:VEVENT

END:VCALENDAR
