BEGIN:VCALENDAR
VERSION:2.0
PRODID:-//hacksw/handcal//NONSGML v1.0//EN
CALSCALE:GREGORIAN
BEGIN:VTIMEZONE
TZID:Europe/Berlin
X-LIC-LOCATION:Europe/Berlin
BEGIN:DAYLIGHT
TZOFFSETFROM:+0100
TZOFFSETTO:+0200
TZNAME:CEST
DTSTART:19700329T020000
RRULE:FREQ=YEARLY;BYDAY=-1SU;BYMONTH=3
END:DAYLIGHT
BEGIN:STANDARD
TZOFFSETFROM:+0200
TZOFFSETTO:+0100
TZNAME:CET
DTSTART:19701025T030000
RRULE:FREQ=YEARLY;BYDAY=-1SU;BYMONTH=10
END:STANDARD
END:VTIMEZONE
BEGIN:VEVENT
DTEND;TZID=Europe/Berlin:20261019T130000
UID:69e93df931903
DTSTAMP:20260422T233033
LOCATION:Nachbarschaftszentrum im Erlengrund\, Gabelhorst 38\, Espelkamp
DESCRIPTION:Erlebe mit uns eine spannende Woche und sei dabei\, wenn wir in die faszinierende Welt der vier Elemente eintauchen. Es erwarten dich spannende Experimente zum Selberausprobieren\, kreative Aktivitäten mit unterschiedlichen Materialien und gemeinsame Spiele für Teamgeist und Spaß. Gemeinsam mit anderen Kindern die Naturelemente mit allen Sinnen erleben – sei neugierig und melde dich an!\r\n\r\nUnd zum Spielen\, Quatschen und Chillen bleibt auch noch genügend Zeit. Erfrischungsgetränke und Minisnack inklusive.\r\n
URL;VALUE=URI:https://www.unser-ferienprogramm.de/espelkamp/veranstaltung.php?id=302685
SUMMARY:Erde\, Feuer\, Wasser\, Luft - Die vier Elemente
DTSTART;TZID=Europe/Berlin:20261019T093000
END:VEVENT


BEGIN:VEVENT
DTEND;TZID=Europe/Berlin:20261020T130000
UID:69e93df93191c1
DTSTAMP:20260422T233033
LOCATION:Nachbarschaftszentrum im Erlengrund\, Gabelhorst 38\, Espelkamp
DESCRIPTION:Erlebe mit uns eine spannende Woche und sei dabei\, wenn wir in die faszinierende Welt der vier Elemente eintauchen. Es erwarten dich spannende Experimente zum Selberausprobieren\, kreative Aktivitäten mit unterschiedlichen Materialien und gemeinsame Spiele für Teamgeist und Spaß. Gemeinsam mit anderen Kindern die Naturelemente mit allen Sinnen erleben – sei neugierig und melde dich an!\r\n\r\nUnd zum Spielen\, Quatschen und Chillen bleibt auch noch genügend Zeit. Erfrischungsgetränke und Minisnack inklusive.\r\n
URL;VALUE=URI:https://www.unser-ferienprogramm.de/espelkamp/veranstaltung.php?id=302685
SUMMARY:Erde\, Feuer\, Wasser\, Luft - Die vier Elemente
DTSTART;TZID=Europe/Berlin:20261020T093000
END:VEVENT


BEGIN:VEVENT
DTEND;TZID=Europe/Berlin:20261021T130000
UID:69e93df93192b2
DTSTAMP:20260422T233033
LOCATION:Nachbarschaftszentrum im Erlengrund\, Gabelhorst 38\, Espelkamp
DESCRIPTION:Erlebe mit uns eine spannende Woche und sei dabei\, wenn wir in die faszinierende Welt der vier Elemente eintauchen. Es erwarten dich spannende Experimente zum Selberausprobieren\, kreative Aktivitäten mit unterschiedlichen Materialien und gemeinsame Spiele für Teamgeist und Spaß. Gemeinsam mit anderen Kindern die Naturelemente mit allen Sinnen erleben – sei neugierig und melde dich an!\r\n\r\nUnd zum Spielen\, Quatschen und Chillen bleibt auch noch genügend Zeit. Erfrischungsgetränke und Minisnack inklusive.\r\n
URL;VALUE=URI:https://www.unser-ferienprogramm.de/espelkamp/veranstaltung.php?id=302685
SUMMARY:Erde\, Feuer\, Wasser\, Luft - Die vier Elemente
DTSTART;TZID=Europe/Berlin:20261021T093000
END:VEVENT


BEGIN:VEVENT
DTEND;TZID=Europe/Berlin:20261022T130000
UID:69e93df9319353
DTSTAMP:20260422T233033
LOCATION:Nachbarschaftszentrum im Erlengrund\, Gabelhorst 38\, Espelkamp
DESCRIPTION:Erlebe mit uns eine spannende Woche und sei dabei\, wenn wir in die faszinierende Welt der vier Elemente eintauchen. Es erwarten dich spannende Experimente zum Selberausprobieren\, kreative Aktivitäten mit unterschiedlichen Materialien und gemeinsame Spiele für Teamgeist und Spaß. Gemeinsam mit anderen Kindern die Naturelemente mit allen Sinnen erleben – sei neugierig und melde dich an!\r\n\r\nUnd zum Spielen\, Quatschen und Chillen bleibt auch noch genügend Zeit. Erfrischungsgetränke und Minisnack inklusive.\r\n
URL;VALUE=URI:https://www.unser-ferienprogramm.de/espelkamp/veranstaltung.php?id=302685
SUMMARY:Erde\, Feuer\, Wasser\, Luft - Die vier Elemente
DTSTART;TZID=Europe/Berlin:20261022T093000
END:VEVENT


BEGIN:VEVENT
DTEND;TZID=Europe/Berlin:20261023T130000
UID:69e93df93193f4
DTSTAMP:20260422T233033
LOCATION:Nachbarschaftszentrum im Erlengrund\, Gabelhorst 38\, Espelkamp
DESCRIPTION:Erlebe mit uns eine spannende Woche und sei dabei\, wenn wir in die faszinierende Welt der vier Elemente eintauchen. Es erwarten dich spannende Experimente zum Selberausprobieren\, kreative Aktivitäten mit unterschiedlichen Materialien und gemeinsame Spiele für Teamgeist und Spaß. Gemeinsam mit anderen Kindern die Naturelemente mit allen Sinnen erleben – sei neugierig und melde dich an!\r\n\r\nUnd zum Spielen\, Quatschen und Chillen bleibt auch noch genügend Zeit. Erfrischungsgetränke und Minisnack inklusive.\r\n
URL;VALUE=URI:https://www.unser-ferienprogramm.de/espelkamp/veranstaltung.php?id=302685
SUMMARY:Erde\, Feuer\, Wasser\, Luft - Die vier Elemente
DTSTART;TZID=Europe/Berlin:20261023T093000
END:VEVENT

END:VCALENDAR
