BEGIN:VCALENDAR
VERSION:2.0
PRODID:-//hacksw/handcal//NONSGML v1.0//EN
CALSCALE:GREGORIAN
BEGIN:VTIMEZONE
TZID:Europe/Berlin
X-LIC-LOCATION:Europe/Berlin
BEGIN:DAYLIGHT
TZOFFSETFROM:+0100
TZOFFSETTO:+0200
TZNAME:CEST
DTSTART:19700329T020000
RRULE:FREQ=YEARLY;BYDAY=-1SU;BYMONTH=3
END:DAYLIGHT
BEGIN:STANDARD
TZOFFSETFROM:+0200
TZOFFSETTO:+0100
TZNAME:CET
DTSTART:19701025T030000
RRULE:FREQ=YEARLY;BYDAY=-1SU;BYMONTH=10
END:STANDARD
END:VTIMEZONE
BEGIN:VEVENT
DTEND;TZID=Europe/Berlin:20260904T170000
UID:69e926e2b0862
DTSTAMP:20260422T215202
LOCATION:Stadtbücherei Espelkamp\, Wilhelm-Kern-Platz 14\, Espelkamp
DESCRIPTION:Allein oder im Team (alle Altersgruppen\, maximal 5 Personen) könnt ihr auch in diesem Sommer wieder beim SommerLeseClub der Stadtbücherei dabei sein. In einem analogen und auch digitalen Team-Logbuch sammelt ihr über die Sommerferien gelesene Bücher\, Hörbücher und Veranstaltungen. \r\n\r\nFür die erfolgreiche Teilnahme braucht jedes Teammitglied mindestens eine Aktivität. Verschiedenste Themenseiten des Logbuchs bieten kreative Herausforderungen\, spielerische Aufgaben und gemeinsames Erleben. Diese könnt ihr zu Hause oder aber auch bei uns in der Stadtbücherei in der Kreativecke bearbeiten. Die unterschiedlichen Kategorien des Logbuchs spielen auch zum Abschluss des SommerLeseClubs eine Rolle. Bei einer Oskar-Verleihung habt ihr die Chance\, mit einer besonders kreativen Umsetzung einen „Lese-Oskar“ zu gewinnen\, Urkunden gehen an alle erfolgreichen Teilnehmer.\r\n\r\n\r\n
URL;VALUE=URI:https://www.unser-ferienprogramm.de/espelkamp/veranstaltung.php?id=302661
SUMMARY:SommerLeseClub
DTSTART;TZID=Europe/Berlin:20260721T100000
END:VEVENT

END:VCALENDAR
