BEGIN:VCALENDAR
VERSION:2.0
PRODID:-//hacksw/handcal//NONSGML v1.0//EN
CALSCALE:GREGORIAN
BEGIN:VTIMEZONE
TZID:Europe/Berlin
X-LIC-LOCATION:Europe/Berlin
BEGIN:DAYLIGHT
TZOFFSETFROM:+0100
TZOFFSETTO:+0200
TZNAME:CEST
DTSTART:19700329T020000
RRULE:FREQ=YEARLY;BYDAY=-1SU;BYMONTH=3
END:DAYLIGHT
BEGIN:STANDARD
TZOFFSETFROM:+0200
TZOFFSETTO:+0100
TZNAME:CET
DTSTART:19701025T030000
RRULE:FREQ=YEARLY;BYDAY=-1SU;BYMONTH=10
END:STANDARD
END:VTIMEZONE
BEGIN:VEVENT
DTEND;TZID=Europe/Berlin:20260817T170000
UID:69e926dd958f4
DTSTAMP:20260422T215157
LOCATION:Stadtbücherei\, Espelkamp\, Wilhelm-Kern-Platz 14\, Espelkamp
DESCRIPTION:Seltsame und einzigartige\, verzauberte Gegenstände erscheinen im ganzen Königreich. Man weiß nur\, dass sie Ärger machen\, und alle Hinweise zu einer kleinen Hütte auf dem Land führen. Kann eure Abenteurergruppe herausfinden\, was hinter allem steckt?\r\n\r\nDiese Veranstaltung ist sowohl für Einsteiger als auch Fortgeschrittene im Bereich der Rollenspiele geeignet.\r\n\r\n
URL;VALUE=URI:https://www.unser-ferienprogramm.de/espelkamp/veranstaltung.php?id=302648
SUMMARY:Die Zauberin und das sich verschiebende Haus
DTSTART;TZID=Europe/Berlin:20260817T140000
END:VEVENT

END:VCALENDAR
