BEGIN:VCALENDAR
VERSION:2.0
PRODID:-//hacksw/handcal//NONSGML v1.0//EN
CALSCALE:GREGORIAN
BEGIN:VTIMEZONE
TZID:Europe/Berlin
X-LIC-LOCATION:Europe/Berlin
BEGIN:DAYLIGHT
TZOFFSETFROM:+0100
TZOFFSETTO:+0200
TZNAME:CEST
DTSTART:19700329T020000
RRULE:FREQ=YEARLY;BYDAY=-1SU;BYMONTH=3
END:DAYLIGHT
BEGIN:STANDARD
TZOFFSETFROM:+0200
TZOFFSETTO:+0100
TZNAME:CET
DTSTART:19701025T030000
RRULE:FREQ=YEARLY;BYDAY=-1SU;BYMONTH=10
END:STANDARD
END:VTIMEZONE
BEGIN:VEVENT
DTEND;TZID=Europe/Berlin:20260725T000000
UID:69e929608cac4
DTSTAMP:20260422T220240
LOCATION:Mennonitisches Ferienheim Rödinghausen\, In der Gehle 3\, Pr. Oldendorf
DESCRIPTION:Auf der SoFrei erwarten dich jeden Tag Sport- und Kreativangebote\, sowie gemeinsames Nachdenken und Austauschen über Jesus. Wir werden viel erleben und es wird mit Sicherheit nicht langweilig!\r\n\r\nWir bieten: Bogenschießen\, Kistenstapeln\, Kletterstationen\, Wasserschlachten\, Grillen\, Lagerfeuer\, Gruppenspiele und einen Pool zur Abkühlung an. Übernachten werden wir in Hütten des Ferienheimes Rödinghausen. Wir erwarten pro Camp 50 bis 80 Teilnehmer*innen und bis zu 30 Mitarbeiter*innen. So wirst du auf jeden Fall tolle neue Leute kennen lernen. Natürlich darfst du aber auch gerne Freunde einladen\, auch mitzukommen.\r\n\r\nUnser Ziel ist es\, eine interessante und abwechslungsreiche Freizeit zu bieten\, die christliche Werte vermittelt. Uns ist wichtig\, den jungen Menschen die lebensverändernde Botschaft von Jesus Christus zu sagen und ihnen zum Leben in seiner Gemeinschaft zu helfen.\r\n
URL;VALUE=URI:https://www.unser-ferienprogramm.de/espelkamp/veranstaltung.php?id=302629
SUMMARY:SoFrei Youth Freizeit (F3)
DTSTART;TZID=Europe/Berlin:20260718T000000
END:VEVENT

END:VCALENDAR
