BEGIN:VCALENDAR
VERSION:2.0
PRODID:-//hacksw/handcal//NONSGML v1.0//EN
CALSCALE:GREGORIAN
BEGIN:VTIMEZONE
TZID:Europe/Berlin
X-LIC-LOCATION:Europe/Berlin
BEGIN:DAYLIGHT
TZOFFSETFROM:+0100
TZOFFSETTO:+0200
TZNAME:CEST
DTSTART:19700329T020000
RRULE:FREQ=YEARLY;BYDAY=-1SU;BYMONTH=3
END:DAYLIGHT
BEGIN:STANDARD
TZOFFSETFROM:+0200
TZOFFSETTO:+0100
TZNAME:CET
DTSTART:19701025T030000
RRULE:FREQ=YEARLY;BYDAY=-1SU;BYMONTH=10
END:STANDARD
END:VTIMEZONE
BEGIN:VEVENT
DTEND;TZID=Europe/Berlin:20261023T000000
UID:69e926dbb954a
DTSTAMP:20260422T215155
LOCATION:Career Greco 6\; Roses-Canyellas - Spanien
DESCRIPTION:In den Herbstferien geht es mit uns nach Spanien an die Costa Brava. Wir fahren nach Roses und\r\nwohnen in der Residencia El Berganti\, unserem spanischen Freizeithotel. Von dort sind es nur zwei\r\nMinuten zu Fuß bis zu einer kleinen Bucht mit schönem Sandstrand. Wir verbringen viel Zeit\r\nzusammen\, spielen\, sind aktiv\, genießen das Meer und haben auch ruhige Momente\, in denen wir als\r\nGruppe guten Input bekommen.\r\n
URL;VALUE=URI:https://www.unser-ferienprogramm.de/espelkamp/veranstaltung.php?id=302624
SUMMARY:Spanienfreizeit
DTSTART;TZID=Europe/Berlin:20261017T000000
END:VEVENT

END:VCALENDAR
