BEGIN:VCALENDAR
VERSION:2.0
PRODID:-//hacksw/handcal//NONSGML v1.0//EN
CALSCALE:GREGORIAN
BEGIN:VTIMEZONE
TZID:Europe/Berlin
X-LIC-LOCATION:Europe/Berlin
BEGIN:DAYLIGHT
TZOFFSETFROM:+0100
TZOFFSETTO:+0200
TZNAME:CEST
DTSTART:19700329T020000
RRULE:FREQ=YEARLY;BYDAY=-1SU;BYMONTH=3
END:DAYLIGHT
BEGIN:STANDARD
TZOFFSETFROM:+0200
TZOFFSETTO:+0100
TZNAME:CET
DTSTART:19701025T030000
RRULE:FREQ=YEARLY;BYDAY=-1SU;BYMONTH=10
END:STANDARD
END:VTIMEZONE
BEGIN:VEVENT
DTEND;TZID=Europe/Berlin:20260824T200000
UID:69e92987395c4
DTSTAMP:20260422T220319
LOCATION:Real Life Jugendcafé\, Am Bahnhof 1\, Espelkamp und Orte in der näheren Umgebung
DESCRIPTION:Erlebe fünf unvergessliche Tage voller Action\, Spaß und Kreativität beim Real Life Summer! Rund um das Bahnhofsgelände erwarten dich coole Sport- und Spielstationen wie eine Kartbahn\, eine Wasserrutsche und ein Kletterbereich – plus interessante Kreativ-Workshops. Jeden Abend gibt es ein Bühnenprogramm\, gefolgt von einem leckeren Abendessen – und das Beste: Alles ist kostenlos! \r\n
URL;VALUE=URI:https://www.unser-ferienprogramm.de/espelkamp/veranstaltung.php?id=302615
SUMMARY:Real Life Summer
DTSTART;TZID=Europe/Berlin:20260824T140000
END:VEVENT


BEGIN:VEVENT
DTEND;TZID=Europe/Berlin:20260825T200000
UID:69e92987396011
DTSTAMP:20260422T220319
LOCATION:Real Life Jugendcafé\, Am Bahnhof 1\, Espelkamp und Orte in der näheren Umgebung
DESCRIPTION:Erlebe fünf unvergessliche Tage voller Action\, Spaß und Kreativität beim Real Life Summer! Rund um das Bahnhofsgelände erwarten dich coole Sport- und Spielstationen wie eine Kartbahn\, eine Wasserrutsche und ein Kletterbereich – plus interessante Kreativ-Workshops. Jeden Abend gibt es ein Bühnenprogramm\, gefolgt von einem leckeren Abendessen – und das Beste: Alles ist kostenlos! \r\n
URL;VALUE=URI:https://www.unser-ferienprogramm.de/espelkamp/veranstaltung.php?id=302615
SUMMARY:Real Life Summer
DTSTART;TZID=Europe/Berlin:20260825T140000
END:VEVENT


BEGIN:VEVENT
DTEND;TZID=Europe/Berlin:20260826T200000
UID:69e929873960f2
DTSTAMP:20260422T220319
LOCATION:Real Life Jugendcafé\, Am Bahnhof 1\, Espelkamp und Orte in der näheren Umgebung
DESCRIPTION:Erlebe fünf unvergessliche Tage voller Action\, Spaß und Kreativität beim Real Life Summer! Rund um das Bahnhofsgelände erwarten dich coole Sport- und Spielstationen wie eine Kartbahn\, eine Wasserrutsche und ein Kletterbereich – plus interessante Kreativ-Workshops. Jeden Abend gibt es ein Bühnenprogramm\, gefolgt von einem leckeren Abendessen – und das Beste: Alles ist kostenlos! \r\n
URL;VALUE=URI:https://www.unser-ferienprogramm.de/espelkamp/veranstaltung.php?id=302615
SUMMARY:Real Life Summer
DTSTART;TZID=Europe/Berlin:20260826T140000
END:VEVENT


BEGIN:VEVENT
DTEND;TZID=Europe/Berlin:20260827T200000
UID:69e92987396193
DTSTAMP:20260422T220319
LOCATION:Real Life Jugendcafé\, Am Bahnhof 1\, Espelkamp und Orte in der näheren Umgebung
DESCRIPTION:Erlebe fünf unvergessliche Tage voller Action\, Spaß und Kreativität beim Real Life Summer! Rund um das Bahnhofsgelände erwarten dich coole Sport- und Spielstationen wie eine Kartbahn\, eine Wasserrutsche und ein Kletterbereich – plus interessante Kreativ-Workshops. Jeden Abend gibt es ein Bühnenprogramm\, gefolgt von einem leckeren Abendessen – und das Beste: Alles ist kostenlos! \r\n
URL;VALUE=URI:https://www.unser-ferienprogramm.de/espelkamp/veranstaltung.php?id=302615
SUMMARY:Real Life Summer
DTSTART;TZID=Europe/Berlin:20260827T140000
END:VEVENT


BEGIN:VEVENT
DTEND;TZID=Europe/Berlin:20260828T200000
UID:69e92987396234
DTSTAMP:20260422T220319
LOCATION:Real Life Jugendcafé\, Am Bahnhof 1\, Espelkamp und Orte in der näheren Umgebung
DESCRIPTION:Erlebe fünf unvergessliche Tage voller Action\, Spaß und Kreativität beim Real Life Summer! Rund um das Bahnhofsgelände erwarten dich coole Sport- und Spielstationen wie eine Kartbahn\, eine Wasserrutsche und ein Kletterbereich – plus interessante Kreativ-Workshops. Jeden Abend gibt es ein Bühnenprogramm\, gefolgt von einem leckeren Abendessen – und das Beste: Alles ist kostenlos! \r\n
URL;VALUE=URI:https://www.unser-ferienprogramm.de/espelkamp/veranstaltung.php?id=302615
SUMMARY:Real Life Summer
DTSTART;TZID=Europe/Berlin:20260828T140000
END:VEVENT

END:VCALENDAR
