BEGIN:VCALENDAR
VERSION:2.0
PRODID:-//hacksw/handcal//NONSGML v1.0//EN
CALSCALE:GREGORIAN
BEGIN:VTIMEZONE
TZID:Europe/Berlin
X-LIC-LOCATION:Europe/Berlin
BEGIN:DAYLIGHT
TZOFFSETFROM:+0100
TZOFFSETTO:+0200
TZNAME:CEST
DTSTART:19700329T020000
RRULE:FREQ=YEARLY;BYDAY=-1SU;BYMONTH=3
END:DAYLIGHT
BEGIN:STANDARD
TZOFFSETFROM:+0200
TZOFFSETTO:+0100
TZNAME:CET
DTSTART:19701025T030000
RRULE:FREQ=YEARLY;BYDAY=-1SU;BYMONTH=10
END:STANDARD
END:VTIMEZONE
BEGIN:VEVENT
DTEND;TZID=Europe/Berlin:20261026T160000
UID:69e93f8bdba08
DTSTAMP:20260422T233715
LOCATION:Soziokulturelles Zentrum Isy7\, Isenstedter Str. 7\, Espelkamp
DESCRIPTION:Du willst in der 2. Herbstferienwoche noch mal richtig Gas geben und eine tolle Zeit mit anderen Kindern verbringen? Im Isy7 erwarten dich Spiel\, Sport\, Spannung\, Kreatives und jede Menge Spaß. Ein cooler Ausflug\, Schwimmen im Atoll\, Fußball auf dem Soccer-Court\, Hüpfburg\, Werken\, Basteln und mit Anderen tolle Dinge erleben – da ist für jede*n etwas dabei!\r\n\r\nZur Ferienwoche können zusätzlich auch Früh- und Spätbetreuung mit gleitender Bring- und Abholzeit gebucht werden. Das Basisangebot beinhaltet Mittagsverpflegung sowie kleine Snacks zwischendurch. Die Früh- und Spätbetreuung beinhaltet Frühstück und Nachmittagssnack – Getränke inklusive.\r\n\r\nAngebotszeiten: \r\nMontag bis Donnerstag 9:30 Uhr bis 16:00 Uhr \r\nFreitag 9:30 Uhr bis 13:30 Uhr\r\nFrühbetreuung täglich ab 7:45 Uhr\r\nSpätbetreuung Montag bis Donnerstag bis 16:45 Uhr\, Freitag bis 14:30 Uhr.
URL;VALUE=URI:https://www.unser-ferienprogramm.de/espelkamp/veranstaltung.php?id=302592
SUMMARY:Herbstferien im Isy7 - FUNtastische Ferienspiele mit Action\, Spiel und Spaß
DTSTART;TZID=Europe/Berlin:20261026T093000
END:VEVENT


BEGIN:VEVENT
DTEND;TZID=Europe/Berlin:20261027T160000
UID:69e93f8bdba2d1
DTSTAMP:20260422T233715
LOCATION:Soziokulturelles Zentrum Isy7\, Isenstedter Str. 7\, Espelkamp
DESCRIPTION:Du willst in der 2. Herbstferienwoche noch mal richtig Gas geben und eine tolle Zeit mit anderen Kindern verbringen? Im Isy7 erwarten dich Spiel\, Sport\, Spannung\, Kreatives und jede Menge Spaß. Ein cooler Ausflug\, Schwimmen im Atoll\, Fußball auf dem Soccer-Court\, Hüpfburg\, Werken\, Basteln und mit Anderen tolle Dinge erleben – da ist für jede*n etwas dabei!\r\n\r\nZur Ferienwoche können zusätzlich auch Früh- und Spätbetreuung mit gleitender Bring- und Abholzeit gebucht werden. Das Basisangebot beinhaltet Mittagsverpflegung sowie kleine Snacks zwischendurch. Die Früh- und Spätbetreuung beinhaltet Frühstück und Nachmittagssnack – Getränke inklusive.\r\n\r\nAngebotszeiten: \r\nMontag bis Donnerstag 9:30 Uhr bis 16:00 Uhr \r\nFreitag 9:30 Uhr bis 13:30 Uhr\r\nFrühbetreuung täglich ab 7:45 Uhr\r\nSpätbetreuung Montag bis Donnerstag bis 16:45 Uhr\, Freitag bis 14:30 Uhr.
URL;VALUE=URI:https://www.unser-ferienprogramm.de/espelkamp/veranstaltung.php?id=302592
SUMMARY:Herbstferien im Isy7 - FUNtastische Ferienspiele mit Action\, Spiel und Spaß
DTSTART;TZID=Europe/Berlin:20261027T093000
END:VEVENT


BEGIN:VEVENT
DTEND;TZID=Europe/Berlin:20261028T160000
UID:69e93f8bdba402
DTSTAMP:20260422T233715
LOCATION:Soziokulturelles Zentrum Isy7\, Isenstedter Str. 7\, Espelkamp
DESCRIPTION:Du willst in der 2. Herbstferienwoche noch mal richtig Gas geben und eine tolle Zeit mit anderen Kindern verbringen? Im Isy7 erwarten dich Spiel\, Sport\, Spannung\, Kreatives und jede Menge Spaß. Ein cooler Ausflug\, Schwimmen im Atoll\, Fußball auf dem Soccer-Court\, Hüpfburg\, Werken\, Basteln und mit Anderen tolle Dinge erleben – da ist für jede*n etwas dabei!\r\n\r\nZur Ferienwoche können zusätzlich auch Früh- und Spätbetreuung mit gleitender Bring- und Abholzeit gebucht werden. Das Basisangebot beinhaltet Mittagsverpflegung sowie kleine Snacks zwischendurch. Die Früh- und Spätbetreuung beinhaltet Frühstück und Nachmittagssnack – Getränke inklusive.\r\n\r\nAngebotszeiten: \r\nMontag bis Donnerstag 9:30 Uhr bis 16:00 Uhr \r\nFreitag 9:30 Uhr bis 13:30 Uhr\r\nFrühbetreuung täglich ab 7:45 Uhr\r\nSpätbetreuung Montag bis Donnerstag bis 16:45 Uhr\, Freitag bis 14:30 Uhr.
URL;VALUE=URI:https://www.unser-ferienprogramm.de/espelkamp/veranstaltung.php?id=302592
SUMMARY:Herbstferien im Isy7 - FUNtastische Ferienspiele mit Action\, Spiel und Spaß
DTSTART;TZID=Europe/Berlin:20261028T093000
END:VEVENT


BEGIN:VEVENT
DTEND;TZID=Europe/Berlin:20261029T160000
UID:69e93f8bdba4f3
DTSTAMP:20260422T233715
LOCATION:Soziokulturelles Zentrum Isy7\, Isenstedter Str. 7\, Espelkamp
DESCRIPTION:Du willst in der 2. Herbstferienwoche noch mal richtig Gas geben und eine tolle Zeit mit anderen Kindern verbringen? Im Isy7 erwarten dich Spiel\, Sport\, Spannung\, Kreatives und jede Menge Spaß. Ein cooler Ausflug\, Schwimmen im Atoll\, Fußball auf dem Soccer-Court\, Hüpfburg\, Werken\, Basteln und mit Anderen tolle Dinge erleben – da ist für jede*n etwas dabei!\r\n\r\nZur Ferienwoche können zusätzlich auch Früh- und Spätbetreuung mit gleitender Bring- und Abholzeit gebucht werden. Das Basisangebot beinhaltet Mittagsverpflegung sowie kleine Snacks zwischendurch. Die Früh- und Spätbetreuung beinhaltet Frühstück und Nachmittagssnack – Getränke inklusive.\r\n\r\nAngebotszeiten: \r\nMontag bis Donnerstag 9:30 Uhr bis 16:00 Uhr \r\nFreitag 9:30 Uhr bis 13:30 Uhr\r\nFrühbetreuung täglich ab 7:45 Uhr\r\nSpätbetreuung Montag bis Donnerstag bis 16:45 Uhr\, Freitag bis 14:30 Uhr.
URL;VALUE=URI:https://www.unser-ferienprogramm.de/espelkamp/veranstaltung.php?id=302592
SUMMARY:Herbstferien im Isy7 - FUNtastische Ferienspiele mit Action\, Spiel und Spaß
DTSTART;TZID=Europe/Berlin:20261029T093000
END:VEVENT


BEGIN:VEVENT
DTEND;TZID=Europe/Berlin:20261030T133000
UID:69e93f8bdba5d4
DTSTAMP:20260422T233715
LOCATION:Soziokulturelles Zentrum Isy7\, Isenstedter Str. 7\, Espelkamp
DESCRIPTION:Du willst in der 2. Herbstferienwoche noch mal richtig Gas geben und eine tolle Zeit mit anderen Kindern verbringen? Im Isy7 erwarten dich Spiel\, Sport\, Spannung\, Kreatives und jede Menge Spaß. Ein cooler Ausflug\, Schwimmen im Atoll\, Fußball auf dem Soccer-Court\, Hüpfburg\, Werken\, Basteln und mit Anderen tolle Dinge erleben – da ist für jede*n etwas dabei!\r\n\r\nZur Ferienwoche können zusätzlich auch Früh- und Spätbetreuung mit gleitender Bring- und Abholzeit gebucht werden. Das Basisangebot beinhaltet Mittagsverpflegung sowie kleine Snacks zwischendurch. Die Früh- und Spätbetreuung beinhaltet Frühstück und Nachmittagssnack – Getränke inklusive.\r\n\r\nAngebotszeiten: \r\nMontag bis Donnerstag 9:30 Uhr bis 16:00 Uhr \r\nFreitag 9:30 Uhr bis 13:30 Uhr\r\nFrühbetreuung täglich ab 7:45 Uhr\r\nSpätbetreuung Montag bis Donnerstag bis 16:45 Uhr\, Freitag bis 14:30 Uhr.
URL;VALUE=URI:https://www.unser-ferienprogramm.de/espelkamp/veranstaltung.php?id=302592
SUMMARY:Herbstferien im Isy7 - FUNtastische Ferienspiele mit Action\, Spiel und Spaß
DTSTART;TZID=Europe/Berlin:20261030T093000
END:VEVENT

END:VCALENDAR
