BEGIN:VCALENDAR
VERSION:2.0
PRODID:-//hacksw/handcal//NONSGML v1.0//EN
CALSCALE:GREGORIAN
BEGIN:VTIMEZONE
TZID:Europe/Berlin
X-LIC-LOCATION:Europe/Berlin
BEGIN:DAYLIGHT
TZOFFSETFROM:+0100
TZOFFSETTO:+0200
TZNAME:CEST
DTSTART:19700329T020000
RRULE:FREQ=YEARLY;BYDAY=-1SU;BYMONTH=3
END:DAYLIGHT
BEGIN:STANDARD
TZOFFSETFROM:+0200
TZOFFSETTO:+0100
TZNAME:CET
DTSTART:19701025T030000
RRULE:FREQ=YEARLY;BYDAY=-1SU;BYMONTH=10
END:STANDARD
END:VTIMEZONE
BEGIN:VEVENT
DTEND;TZID=Europe/Berlin:20260824T160000
UID:69e9266fb1d17
DTSTAMP:20260422T215007
LOCATION:Soziokulturelles Zentrum Isy7\, Isenstedter Str. 7\, Espelkamp
DESCRIPTION:Auch in diesem Jahr kannst Du in zwei Ferienwochen noch mal richtig Gas geben! Im Isy7 erwarten Dich Spiel\, Sport\, Spannung\, Kreatives und jede Menge Spaß. Coole Ausflüge\, Schwimmen im Freibad oder Atoll\, Fußball auf dem Soccer-Court\, Hüpfburg\, Werken\, Basteln und tolle Dinge mit anderen erleben – da ist für jede/n etwas dabei!\r\n \r\nEs können alle zwei oder eine der Ferienspielwochen\, zusätzlich auch mit Früh- und Spätbetreuung mit gleitender Bring- und Abholzeit\, gebucht werden. Das Basisangebot beinhaltet Mittagsverpflegung\, die Früh- und Spätbetreuung Frühstück und Nachmittagssnack - Getränke inklusive.\r\n\r\nAngebotszeiten: \r\nMontag bis Donnerstag 9:30 Uhr bis 16:00 Uhr\, Freitag 9:30 Uhr bis 13:30 Uhr\r\nFrühbetreuung täglich ab 7:45 Uhr\r\nSpätbetreuung Montag bis Donnerstag bis 16:45 Uhr\, Freitag bis 14:30 Uhr.
URL;VALUE=URI:https://www.unser-ferienprogramm.de/espelkamp/veranstaltung.php?id=302590
SUMMARY:Sommerferien im Isy7 (Woche 2)
DTSTART;TZID=Europe/Berlin:20260824T093000
END:VEVENT


BEGIN:VEVENT
DTEND;TZID=Europe/Berlin:20260825T160000
UID:69e9266fb1d401
DTSTAMP:20260422T215007
LOCATION:Soziokulturelles Zentrum Isy7\, Isenstedter Str. 7\, Espelkamp
DESCRIPTION:Auch in diesem Jahr kannst Du in zwei Ferienwochen noch mal richtig Gas geben! Im Isy7 erwarten Dich Spiel\, Sport\, Spannung\, Kreatives und jede Menge Spaß. Coole Ausflüge\, Schwimmen im Freibad oder Atoll\, Fußball auf dem Soccer-Court\, Hüpfburg\, Werken\, Basteln und tolle Dinge mit anderen erleben – da ist für jede/n etwas dabei!\r\n \r\nEs können alle zwei oder eine der Ferienspielwochen\, zusätzlich auch mit Früh- und Spätbetreuung mit gleitender Bring- und Abholzeit\, gebucht werden. Das Basisangebot beinhaltet Mittagsverpflegung\, die Früh- und Spätbetreuung Frühstück und Nachmittagssnack - Getränke inklusive.\r\n\r\nAngebotszeiten: \r\nMontag bis Donnerstag 9:30 Uhr bis 16:00 Uhr\, Freitag 9:30 Uhr bis 13:30 Uhr\r\nFrühbetreuung täglich ab 7:45 Uhr\r\nSpätbetreuung Montag bis Donnerstag bis 16:45 Uhr\, Freitag bis 14:30 Uhr.
URL;VALUE=URI:https://www.unser-ferienprogramm.de/espelkamp/veranstaltung.php?id=302590
SUMMARY:Sommerferien im Isy7 (Woche 2)
DTSTART;TZID=Europe/Berlin:20260825T093000
END:VEVENT


BEGIN:VEVENT
DTEND;TZID=Europe/Berlin:20260826T160000
UID:69e9266fb1d522
DTSTAMP:20260422T215007
LOCATION:Soziokulturelles Zentrum Isy7\, Isenstedter Str. 7\, Espelkamp
DESCRIPTION:Auch in diesem Jahr kannst Du in zwei Ferienwochen noch mal richtig Gas geben! Im Isy7 erwarten Dich Spiel\, Sport\, Spannung\, Kreatives und jede Menge Spaß. Coole Ausflüge\, Schwimmen im Freibad oder Atoll\, Fußball auf dem Soccer-Court\, Hüpfburg\, Werken\, Basteln und tolle Dinge mit anderen erleben – da ist für jede/n etwas dabei!\r\n \r\nEs können alle zwei oder eine der Ferienspielwochen\, zusätzlich auch mit Früh- und Spätbetreuung mit gleitender Bring- und Abholzeit\, gebucht werden. Das Basisangebot beinhaltet Mittagsverpflegung\, die Früh- und Spätbetreuung Frühstück und Nachmittagssnack - Getränke inklusive.\r\n\r\nAngebotszeiten: \r\nMontag bis Donnerstag 9:30 Uhr bis 16:00 Uhr\, Freitag 9:30 Uhr bis 13:30 Uhr\r\nFrühbetreuung täglich ab 7:45 Uhr\r\nSpätbetreuung Montag bis Donnerstag bis 16:45 Uhr\, Freitag bis 14:30 Uhr.
URL;VALUE=URI:https://www.unser-ferienprogramm.de/espelkamp/veranstaltung.php?id=302590
SUMMARY:Sommerferien im Isy7 (Woche 2)
DTSTART;TZID=Europe/Berlin:20260826T093000
END:VEVENT


BEGIN:VEVENT
DTEND;TZID=Europe/Berlin:20260827T160000
UID:69e9266fb1d603
DTSTAMP:20260422T215007
LOCATION:Soziokulturelles Zentrum Isy7\, Isenstedter Str. 7\, Espelkamp
DESCRIPTION:Auch in diesem Jahr kannst Du in zwei Ferienwochen noch mal richtig Gas geben! Im Isy7 erwarten Dich Spiel\, Sport\, Spannung\, Kreatives und jede Menge Spaß. Coole Ausflüge\, Schwimmen im Freibad oder Atoll\, Fußball auf dem Soccer-Court\, Hüpfburg\, Werken\, Basteln und tolle Dinge mit anderen erleben – da ist für jede/n etwas dabei!\r\n \r\nEs können alle zwei oder eine der Ferienspielwochen\, zusätzlich auch mit Früh- und Spätbetreuung mit gleitender Bring- und Abholzeit\, gebucht werden. Das Basisangebot beinhaltet Mittagsverpflegung\, die Früh- und Spätbetreuung Frühstück und Nachmittagssnack - Getränke inklusive.\r\n\r\nAngebotszeiten: \r\nMontag bis Donnerstag 9:30 Uhr bis 16:00 Uhr\, Freitag 9:30 Uhr bis 13:30 Uhr\r\nFrühbetreuung täglich ab 7:45 Uhr\r\nSpätbetreuung Montag bis Donnerstag bis 16:45 Uhr\, Freitag bis 14:30 Uhr.
URL;VALUE=URI:https://www.unser-ferienprogramm.de/espelkamp/veranstaltung.php?id=302590
SUMMARY:Sommerferien im Isy7 (Woche 2)
DTSTART;TZID=Europe/Berlin:20260827T093000
END:VEVENT


BEGIN:VEVENT
DTEND;TZID=Europe/Berlin:20260828T133000
UID:69e9266fb1d6e4
DTSTAMP:20260422T215007
LOCATION:Soziokulturelles Zentrum Isy7\, Isenstedter Str. 7\, Espelkamp
DESCRIPTION:Auch in diesem Jahr kannst Du in zwei Ferienwochen noch mal richtig Gas geben! Im Isy7 erwarten Dich Spiel\, Sport\, Spannung\, Kreatives und jede Menge Spaß. Coole Ausflüge\, Schwimmen im Freibad oder Atoll\, Fußball auf dem Soccer-Court\, Hüpfburg\, Werken\, Basteln und tolle Dinge mit anderen erleben – da ist für jede/n etwas dabei!\r\n \r\nEs können alle zwei oder eine der Ferienspielwochen\, zusätzlich auch mit Früh- und Spätbetreuung mit gleitender Bring- und Abholzeit\, gebucht werden. Das Basisangebot beinhaltet Mittagsverpflegung\, die Früh- und Spätbetreuung Frühstück und Nachmittagssnack - Getränke inklusive.\r\n\r\nAngebotszeiten: \r\nMontag bis Donnerstag 9:30 Uhr bis 16:00 Uhr\, Freitag 9:30 Uhr bis 13:30 Uhr\r\nFrühbetreuung täglich ab 7:45 Uhr\r\nSpätbetreuung Montag bis Donnerstag bis 16:45 Uhr\, Freitag bis 14:30 Uhr.
URL;VALUE=URI:https://www.unser-ferienprogramm.de/espelkamp/veranstaltung.php?id=302590
SUMMARY:Sommerferien im Isy7 (Woche 2)
DTSTART;TZID=Europe/Berlin:20260828T093000
END:VEVENT

END:VCALENDAR
