BEGIN:VCALENDAR
VERSION:2.0
PRODID:-//hacksw/handcal//NONSGML v1.0//EN
CALSCALE:GREGORIAN
BEGIN:VTIMEZONE
TZID:Europe/Berlin
X-LIC-LOCATION:Europe/Berlin
BEGIN:DAYLIGHT
TZOFFSETFROM:+0100
TZOFFSETTO:+0200
TZNAME:CEST
DTSTART:19700329T020000
RRULE:FREQ=YEARLY;BYDAY=-1SU;BYMONTH=3
END:DAYLIGHT
BEGIN:STANDARD
TZOFFSETFROM:+0200
TZOFFSETTO:+0100
TZNAME:CET
DTSTART:19701025T030000
RRULE:FREQ=YEARLY;BYDAY=-1SU;BYMONTH=10
END:STANDARD
END:VTIMEZONE
BEGIN:VEVENT
DTEND;TZID=Europe/Berlin:20260817T160000
UID:69e926801dfb9
DTSTAMP:20260422T215024
LOCATION:Soziokulturelles Zentrum Isy7\, Isenstedter Str. 7\, Espelkamp
DESCRIPTION:Auch in diesem Jahr kannst du in zwei Ferienwochen noch mal richtig Gas geben! Im Isy7 erwarten dich Spiel\, Sport\, Spannung\, Kreatives und jede Menge Spaß. Coole Ausflüge\, Schwimmen im Freibad oder Atoll\, Fußball auf dem Soccer-Court\, Hüpfburg\, Werken\, Basteln und tolle Dinge mit anderen erleben – da ist für jede/n etwas dabei!\r\n \r\nEs können alle zwei oder eine der Ferienspielwochen\, zusätzlich auch mit Früh- und Spätbetreuung mit gleitender Bring- und Abholzeit\, gebucht werden. Das Basisangebot beinhaltet Mittagsverpflegung\, die Früh- und Spätbetreuung Frühstück und Nachmittagssnack - Getränke inklusive.\r\n\r\nAngebotszeiten: \r\nMontag bis Donnerstag 9:30 Uhr bis 16:00 Uhr\, Freitag 9:30 Uhr bis 13:30 Uhr\r\nFrühbetreuung täglich ab 7:45 Uhr\r\nSpätbetreuung Montag bis Donnerstag bis 16:45 Uhr\, Freitag bis 14:30 Uhr.
URL;VALUE=URI:https://www.unser-ferienprogramm.de/espelkamp/veranstaltung.php?id=302588
SUMMARY:Sommerferien im Isy7 (Woche 1)
DTSTART;TZID=Europe/Berlin:20260817T093000
END:VEVENT


BEGIN:VEVENT
DTEND;TZID=Europe/Berlin:20260818T160000
UID:69e926801dfd51
DTSTAMP:20260422T215024
LOCATION:Soziokulturelles Zentrum Isy7\, Isenstedter Str. 7\, Espelkamp
DESCRIPTION:Auch in diesem Jahr kannst du in zwei Ferienwochen noch mal richtig Gas geben! Im Isy7 erwarten dich Spiel\, Sport\, Spannung\, Kreatives und jede Menge Spaß. Coole Ausflüge\, Schwimmen im Freibad oder Atoll\, Fußball auf dem Soccer-Court\, Hüpfburg\, Werken\, Basteln und tolle Dinge mit anderen erleben – da ist für jede/n etwas dabei!\r\n \r\nEs können alle zwei oder eine der Ferienspielwochen\, zusätzlich auch mit Früh- und Spätbetreuung mit gleitender Bring- und Abholzeit\, gebucht werden. Das Basisangebot beinhaltet Mittagsverpflegung\, die Früh- und Spätbetreuung Frühstück und Nachmittagssnack - Getränke inklusive.\r\n\r\nAngebotszeiten: \r\nMontag bis Donnerstag 9:30 Uhr bis 16:00 Uhr\, Freitag 9:30 Uhr bis 13:30 Uhr\r\nFrühbetreuung täglich ab 7:45 Uhr\r\nSpätbetreuung Montag bis Donnerstag bis 16:45 Uhr\, Freitag bis 14:30 Uhr.
URL;VALUE=URI:https://www.unser-ferienprogramm.de/espelkamp/veranstaltung.php?id=302588
SUMMARY:Sommerferien im Isy7 (Woche 1)
DTSTART;TZID=Europe/Berlin:20260818T093000
END:VEVENT


BEGIN:VEVENT
DTEND;TZID=Europe/Berlin:20260819T160000
UID:69e926801dfe72
DTSTAMP:20260422T215024
LOCATION:Soziokulturelles Zentrum Isy7\, Isenstedter Str. 7\, Espelkamp
DESCRIPTION:Auch in diesem Jahr kannst du in zwei Ferienwochen noch mal richtig Gas geben! Im Isy7 erwarten dich Spiel\, Sport\, Spannung\, Kreatives und jede Menge Spaß. Coole Ausflüge\, Schwimmen im Freibad oder Atoll\, Fußball auf dem Soccer-Court\, Hüpfburg\, Werken\, Basteln und tolle Dinge mit anderen erleben – da ist für jede/n etwas dabei!\r\n \r\nEs können alle zwei oder eine der Ferienspielwochen\, zusätzlich auch mit Früh- und Spätbetreuung mit gleitender Bring- und Abholzeit\, gebucht werden. Das Basisangebot beinhaltet Mittagsverpflegung\, die Früh- und Spätbetreuung Frühstück und Nachmittagssnack - Getränke inklusive.\r\n\r\nAngebotszeiten: \r\nMontag bis Donnerstag 9:30 Uhr bis 16:00 Uhr\, Freitag 9:30 Uhr bis 13:30 Uhr\r\nFrühbetreuung täglich ab 7:45 Uhr\r\nSpätbetreuung Montag bis Donnerstag bis 16:45 Uhr\, Freitag bis 14:30 Uhr.
URL;VALUE=URI:https://www.unser-ferienprogramm.de/espelkamp/veranstaltung.php?id=302588
SUMMARY:Sommerferien im Isy7 (Woche 1)
DTSTART;TZID=Europe/Berlin:20260819T093000
END:VEVENT


BEGIN:VEVENT
DTEND;TZID=Europe/Berlin:20260820T160000
UID:69e926801dff73
DTSTAMP:20260422T215024
LOCATION:Soziokulturelles Zentrum Isy7\, Isenstedter Str. 7\, Espelkamp
DESCRIPTION:Auch in diesem Jahr kannst du in zwei Ferienwochen noch mal richtig Gas geben! Im Isy7 erwarten dich Spiel\, Sport\, Spannung\, Kreatives und jede Menge Spaß. Coole Ausflüge\, Schwimmen im Freibad oder Atoll\, Fußball auf dem Soccer-Court\, Hüpfburg\, Werken\, Basteln und tolle Dinge mit anderen erleben – da ist für jede/n etwas dabei!\r\n \r\nEs können alle zwei oder eine der Ferienspielwochen\, zusätzlich auch mit Früh- und Spätbetreuung mit gleitender Bring- und Abholzeit\, gebucht werden. Das Basisangebot beinhaltet Mittagsverpflegung\, die Früh- und Spätbetreuung Frühstück und Nachmittagssnack - Getränke inklusive.\r\n\r\nAngebotszeiten: \r\nMontag bis Donnerstag 9:30 Uhr bis 16:00 Uhr\, Freitag 9:30 Uhr bis 13:30 Uhr\r\nFrühbetreuung täglich ab 7:45 Uhr\r\nSpätbetreuung Montag bis Donnerstag bis 16:45 Uhr\, Freitag bis 14:30 Uhr.
URL;VALUE=URI:https://www.unser-ferienprogramm.de/espelkamp/veranstaltung.php?id=302588
SUMMARY:Sommerferien im Isy7 (Woche 1)
DTSTART;TZID=Europe/Berlin:20260820T093000
END:VEVENT


BEGIN:VEVENT
DTEND;TZID=Europe/Berlin:20260821T133000
UID:69e926801e0054
DTSTAMP:20260422T215024
LOCATION:Soziokulturelles Zentrum Isy7\, Isenstedter Str. 7\, Espelkamp
DESCRIPTION:Auch in diesem Jahr kannst du in zwei Ferienwochen noch mal richtig Gas geben! Im Isy7 erwarten dich Spiel\, Sport\, Spannung\, Kreatives und jede Menge Spaß. Coole Ausflüge\, Schwimmen im Freibad oder Atoll\, Fußball auf dem Soccer-Court\, Hüpfburg\, Werken\, Basteln und tolle Dinge mit anderen erleben – da ist für jede/n etwas dabei!\r\n \r\nEs können alle zwei oder eine der Ferienspielwochen\, zusätzlich auch mit Früh- und Spätbetreuung mit gleitender Bring- und Abholzeit\, gebucht werden. Das Basisangebot beinhaltet Mittagsverpflegung\, die Früh- und Spätbetreuung Frühstück und Nachmittagssnack - Getränke inklusive.\r\n\r\nAngebotszeiten: \r\nMontag bis Donnerstag 9:30 Uhr bis 16:00 Uhr\, Freitag 9:30 Uhr bis 13:30 Uhr\r\nFrühbetreuung täglich ab 7:45 Uhr\r\nSpätbetreuung Montag bis Donnerstag bis 16:45 Uhr\, Freitag bis 14:30 Uhr.
URL;VALUE=URI:https://www.unser-ferienprogramm.de/espelkamp/veranstaltung.php?id=302588
SUMMARY:Sommerferien im Isy7 (Woche 1)
DTSTART;TZID=Europe/Berlin:20260821T093000
END:VEVENT

END:VCALENDAR
