BEGIN:VCALENDAR
VERSION:2.0
PRODID:-//hacksw/handcal//NONSGML v1.0//EN
CALSCALE:GREGORIAN
BEGIN:VTIMEZONE
TZID:Europe/Berlin
X-LIC-LOCATION:Europe/Berlin
BEGIN:DAYLIGHT
TZOFFSETFROM:+0100
TZOFFSETTO:+0200
TZNAME:CEST
DTSTART:19700329T020000
RRULE:FREQ=YEARLY;BYDAY=-1SU;BYMONTH=3
END:DAYLIGHT
BEGIN:STANDARD
TZOFFSETFROM:+0200
TZOFFSETTO:+0100
TZNAME:CET
DTSTART:19701025T030000
RRULE:FREQ=YEARLY;BYDAY=-1SU;BYMONTH=10
END:STANDARD
END:VTIMEZONE
BEGIN:VEVENT
DTEND;TZID=Europe/Berlin:20260722T000000
UID:69e92667bc651
DTSTAMP:20260422T214959
LOCATION:Soziokulturelles Zentrum Isy7\, Isenstedter Str. 7\, Espelkamp
DESCRIPTION:Du hast Lust auf Musik und willst wissen\, wie ein Song entsteht? In unserem Musikworkshop lernst du gemeinsam mit Onur (Audio Engineer und Sozialarbeiter) Schritt für Schritt\, wie aus einer Idee ein echter Track wird!\r\n\r\nGemeinsam sucht ihr Beats aus\, schreibt eigene Songtexte und nehmt euren Song auf. Danach geht’s ans Abmischen und Feintuning\, bis alles richtig gut klingt. Dabei geht es nicht nur um Musik: Du arbeitest im Team\, lernst den Umgang mit Technik und Medien und kannst zeigen\, was dich bewegt. Deine Gedanken\, Gefühle und Themen bekommen hier eine Stimme – deine Musik\, dein Style.\r\n\r\nGanz nebenbei bekommst du auch spannende Einblicke in die Technik hinter der Musikproduktion und lernst ein kreatives Berufsfeld kennen. Egal ob Anfänger*in oder mit Vorerfahrung – jede*r ist willkommen.\r\n\r\n\r\n\r\n
URL;VALUE=URI:https://www.unser-ferienprogramm.de/espelkamp/veranstaltung.php?id=302587
SUMMARY:Musikworkshop
DTSTART;TZID=Europe/Berlin:20260721T000000
END:VEVENT

END:VCALENDAR
