BEGIN:VCALENDAR
VERSION:2.0
PRODID:-//hacksw/handcal//NONSGML v1.0//EN
CALSCALE:GREGORIAN
BEGIN:VTIMEZONE
TZID:Europe/Berlin
X-LIC-LOCATION:Europe/Berlin
BEGIN:DAYLIGHT
TZOFFSETFROM:+0100
TZOFFSETTO:+0200
TZNAME:CEST
DTSTART:19700329T020000
RRULE:FREQ=YEARLY;BYDAY=-1SU;BYMONTH=3
END:DAYLIGHT
BEGIN:STANDARD
TZOFFSETFROM:+0200
TZOFFSETTO:+0100
TZNAME:CET
DTSTART:19701025T030000
RRULE:FREQ=YEARLY;BYDAY=-1SU;BYMONTH=10
END:STANDARD
END:VTIMEZONE
BEGIN:VEVENT
DTEND;TZID=Europe/Berlin:20260727T000000
UID:69e926591b355
DTSTAMP:20260422T214945
LOCATION:verschiedene Orte - werden nach Auswahltreffen bekannt gegeben
DESCRIPTION:Drei Tage - drei verschiedene Orte! „Teens on Tour“ findet in Kooperation mit den Jugendförderungen Hüllhorst und Stemwede statt. An den drei Tagen stehen täglich Ausflüge in verschiedene Städte oder Orte Deutschlands mit unterschiedlichen Programmpunkten auf eurem Reiseplan. Stattfinden soll das Ganze in der zweiten Sommerferienwoche. \r\n\r\nSeid dabei und entscheidet selbst mit\, an welchen Ort es gehen soll und was auf dem Programm steht. Zur Auswahl werden wieder verschiedene Ausflugsziele in unterschiedlichen Städten stehen. Bevor es losgeht\, findet ein gemeinsames Auswahltreffen mit euch statt\, zu dem ihr dann noch eingeladen werdet. Im Anschluss erhaltet ihr dann von uns eure selbst mitgeplante Reiseroute für die drei coolen und erlebnisreichen Teens-on-Tour-Tage sowie die Treffpunkte mit genauen Zeitangaben.\r\n\r\n\r\n\r\n\r\n\r\n
URL;VALUE=URI:https://www.unser-ferienprogramm.de/espelkamp/veranstaltung.php?id=302586
SUMMARY:Teens on Tour
DTSTART;TZID=Europe/Berlin:20260727T000000
END:VEVENT


BEGIN:VEVENT
DTEND;TZID=Europe/Berlin:20260728T000000
UID:69e926591b36e1
DTSTAMP:20260422T214945
LOCATION:verschiedene Orte - werden nach Auswahltreffen bekannt gegeben
DESCRIPTION:Drei Tage - drei verschiedene Orte! „Teens on Tour“ findet in Kooperation mit den Jugendförderungen Hüllhorst und Stemwede statt. An den drei Tagen stehen täglich Ausflüge in verschiedene Städte oder Orte Deutschlands mit unterschiedlichen Programmpunkten auf eurem Reiseplan. Stattfinden soll das Ganze in der zweiten Sommerferienwoche. \r\n\r\nSeid dabei und entscheidet selbst mit\, an welchen Ort es gehen soll und was auf dem Programm steht. Zur Auswahl werden wieder verschiedene Ausflugsziele in unterschiedlichen Städten stehen. Bevor es losgeht\, findet ein gemeinsames Auswahltreffen mit euch statt\, zu dem ihr dann noch eingeladen werdet. Im Anschluss erhaltet ihr dann von uns eure selbst mitgeplante Reiseroute für die drei coolen und erlebnisreichen Teens-on-Tour-Tage sowie die Treffpunkte mit genauen Zeitangaben.\r\n\r\n\r\n\r\n\r\n\r\n
URL;VALUE=URI:https://www.unser-ferienprogramm.de/espelkamp/veranstaltung.php?id=302586
SUMMARY:Teens on Tour
DTSTART;TZID=Europe/Berlin:20260728T000000
END:VEVENT


BEGIN:VEVENT
DTEND;TZID=Europe/Berlin:20260729T000000
UID:69e926591b37f2
DTSTAMP:20260422T214945
LOCATION:verschiedene Orte - werden nach Auswahltreffen bekannt gegeben
DESCRIPTION:Drei Tage - drei verschiedene Orte! „Teens on Tour“ findet in Kooperation mit den Jugendförderungen Hüllhorst und Stemwede statt. An den drei Tagen stehen täglich Ausflüge in verschiedene Städte oder Orte Deutschlands mit unterschiedlichen Programmpunkten auf eurem Reiseplan. Stattfinden soll das Ganze in der zweiten Sommerferienwoche. \r\n\r\nSeid dabei und entscheidet selbst mit\, an welchen Ort es gehen soll und was auf dem Programm steht. Zur Auswahl werden wieder verschiedene Ausflugsziele in unterschiedlichen Städten stehen. Bevor es losgeht\, findet ein gemeinsames Auswahltreffen mit euch statt\, zu dem ihr dann noch eingeladen werdet. Im Anschluss erhaltet ihr dann von uns eure selbst mitgeplante Reiseroute für die drei coolen und erlebnisreichen Teens-on-Tour-Tage sowie die Treffpunkte mit genauen Zeitangaben.\r\n\r\n\r\n\r\n\r\n\r\n
URL;VALUE=URI:https://www.unser-ferienprogramm.de/espelkamp/veranstaltung.php?id=302586
SUMMARY:Teens on Tour
DTSTART;TZID=Europe/Berlin:20260729T000000
END:VEVENT

END:VCALENDAR
