BEGIN:VCALENDAR
VERSION:2.0
PRODID:-//hacksw/handcal//NONSGML v1.0//EN
CALSCALE:GREGORIAN
BEGIN:VTIMEZONE
TZID:Europe/Berlin
X-LIC-LOCATION:Europe/Berlin
BEGIN:DAYLIGHT
TZOFFSETFROM:+0100
TZOFFSETTO:+0200
TZNAME:CEST
DTSTART:19700329T020000
RRULE:FREQ=YEARLY;BYDAY=-1SU;BYMONTH=3
END:DAYLIGHT
BEGIN:STANDARD
TZOFFSETFROM:+0200
TZOFFSETTO:+0100
TZNAME:CET
DTSTART:19701025T030000
RRULE:FREQ=YEARLY;BYDAY=-1SU;BYMONTH=10
END:STANDARD
END:VTIMEZONE
BEGIN:VEVENT
DTEND;TZID=Europe/Berlin:20260407T160000
UID:69e958c6081c1
DTSTAMP:20260423T012454
LOCATION:Soziokulturelles Zentrum Isy7\, Isenstedter Str. 7\, Espelkamp
DESCRIPTION:Du willst in der Woche nach Ostern richtig was erleben und eine tolle Zeit mit anderen Kindern verbringen? Im Isy7 erwarten dich spannende Tage mit Spiel\, Sport\, Spaß und vielem mehr. Neben einem bewegungsfreudigen Tagesausflug haben wir mal wieder ein buntes Programm für euch zusammengestellt. Da ist für alle etwas dabei.\r\n\r\nZur Ferienwoche können zusätzlich auch Früh- und Spätbetreuung mit gleitender Bring- und Abholzeit gebucht werden. Das Basisangebot beinhaltet Mittagsverpflegung sowie kleine Snacks zwischendurch. Die Früh- und Spätbetreuung beinhaltet Frühstück und einen Nachmittagssnack – Getränke inklusive.\r\n\r\n\r\nAngebotszeiten: \r\nDienstag bis Donnerstag 9:30 Uhr bis 16:00 Uhr\, Freitag 9:30 Uhr bis 13:30 Uhr\r\nFrühbetreuung täglich ab 7:45 Uhr\r\nSpätbetreuung Dienstag bis Donnerstag bis 16:45 Uhr\, Freitag bis 14:30 Uhr.
URL;VALUE=URI:https://www.unser-ferienprogramm.de/espelkamp/veranstaltung.php?id=302581
SUMMARY:Osterferien im Isy7 - Kunterbunte Ferienspiele mit Action\, Spiel und Spaß
DTSTART;TZID=Europe/Berlin:20260407T093000
END:VEVENT


BEGIN:VEVENT
DTEND;TZID=Europe/Berlin:20260408T160000
UID:69e958c6082071
DTSTAMP:20260423T012454
LOCATION:Soziokulturelles Zentrum Isy7\, Isenstedter Str. 7\, Espelkamp
DESCRIPTION:Du willst in der Woche nach Ostern richtig was erleben und eine tolle Zeit mit anderen Kindern verbringen? Im Isy7 erwarten dich spannende Tage mit Spiel\, Sport\, Spaß und vielem mehr. Neben einem bewegungsfreudigen Tagesausflug haben wir mal wieder ein buntes Programm für euch zusammengestellt. Da ist für alle etwas dabei.\r\n\r\nZur Ferienwoche können zusätzlich auch Früh- und Spätbetreuung mit gleitender Bring- und Abholzeit gebucht werden. Das Basisangebot beinhaltet Mittagsverpflegung sowie kleine Snacks zwischendurch. Die Früh- und Spätbetreuung beinhaltet Frühstück und einen Nachmittagssnack – Getränke inklusive.\r\n\r\n\r\nAngebotszeiten: \r\nDienstag bis Donnerstag 9:30 Uhr bis 16:00 Uhr\, Freitag 9:30 Uhr bis 13:30 Uhr\r\nFrühbetreuung täglich ab 7:45 Uhr\r\nSpätbetreuung Dienstag bis Donnerstag bis 16:45 Uhr\, Freitag bis 14:30 Uhr.
URL;VALUE=URI:https://www.unser-ferienprogramm.de/espelkamp/veranstaltung.php?id=302581
SUMMARY:Osterferien im Isy7 - Kunterbunte Ferienspiele mit Action\, Spiel und Spaß
DTSTART;TZID=Europe/Berlin:20260408T093000
END:VEVENT


BEGIN:VEVENT
DTEND;TZID=Europe/Berlin:20260409T160000
UID:69e958c6082182
DTSTAMP:20260423T012454
LOCATION:Soziokulturelles Zentrum Isy7\, Isenstedter Str. 7\, Espelkamp
DESCRIPTION:Du willst in der Woche nach Ostern richtig was erleben und eine tolle Zeit mit anderen Kindern verbringen? Im Isy7 erwarten dich spannende Tage mit Spiel\, Sport\, Spaß und vielem mehr. Neben einem bewegungsfreudigen Tagesausflug haben wir mal wieder ein buntes Programm für euch zusammengestellt. Da ist für alle etwas dabei.\r\n\r\nZur Ferienwoche können zusätzlich auch Früh- und Spätbetreuung mit gleitender Bring- und Abholzeit gebucht werden. Das Basisangebot beinhaltet Mittagsverpflegung sowie kleine Snacks zwischendurch. Die Früh- und Spätbetreuung beinhaltet Frühstück und einen Nachmittagssnack – Getränke inklusive.\r\n\r\n\r\nAngebotszeiten: \r\nDienstag bis Donnerstag 9:30 Uhr bis 16:00 Uhr\, Freitag 9:30 Uhr bis 13:30 Uhr\r\nFrühbetreuung täglich ab 7:45 Uhr\r\nSpätbetreuung Dienstag bis Donnerstag bis 16:45 Uhr\, Freitag bis 14:30 Uhr.
URL;VALUE=URI:https://www.unser-ferienprogramm.de/espelkamp/veranstaltung.php?id=302581
SUMMARY:Osterferien im Isy7 - Kunterbunte Ferienspiele mit Action\, Spiel und Spaß
DTSTART;TZID=Europe/Berlin:20260409T093000
END:VEVENT


BEGIN:VEVENT
DTEND;TZID=Europe/Berlin:20260410T133000
UID:69e958c6082273
DTSTAMP:20260423T012454
LOCATION:Soziokulturelles Zentrum Isy7\, Isenstedter Str. 7\, Espelkamp
DESCRIPTION:Du willst in der Woche nach Ostern richtig was erleben und eine tolle Zeit mit anderen Kindern verbringen? Im Isy7 erwarten dich spannende Tage mit Spiel\, Sport\, Spaß und vielem mehr. Neben einem bewegungsfreudigen Tagesausflug haben wir mal wieder ein buntes Programm für euch zusammengestellt. Da ist für alle etwas dabei.\r\n\r\nZur Ferienwoche können zusätzlich auch Früh- und Spätbetreuung mit gleitender Bring- und Abholzeit gebucht werden. Das Basisangebot beinhaltet Mittagsverpflegung sowie kleine Snacks zwischendurch. Die Früh- und Spätbetreuung beinhaltet Frühstück und einen Nachmittagssnack – Getränke inklusive.\r\n\r\n\r\nAngebotszeiten: \r\nDienstag bis Donnerstag 9:30 Uhr bis 16:00 Uhr\, Freitag 9:30 Uhr bis 13:30 Uhr\r\nFrühbetreuung täglich ab 7:45 Uhr\r\nSpätbetreuung Dienstag bis Donnerstag bis 16:45 Uhr\, Freitag bis 14:30 Uhr.
URL;VALUE=URI:https://www.unser-ferienprogramm.de/espelkamp/veranstaltung.php?id=302581
SUMMARY:Osterferien im Isy7 - Kunterbunte Ferienspiele mit Action\, Spiel und Spaß
DTSTART;TZID=Europe/Berlin:20260410T093000
END:VEVENT

END:VCALENDAR
