BEGIN:VCALENDAR
VERSION:2.0
PRODID:-//hacksw/handcal//NONSGML v1.0//EN
CALSCALE:GREGORIAN
BEGIN:VTIMEZONE
TZID:Europe/Berlin
X-LIC-LOCATION:Europe/Berlin
BEGIN:DAYLIGHT
TZOFFSETFROM:+0100
TZOFFSETTO:+0200
TZNAME:CEST
DTSTART:19700329T020000
RRULE:FREQ=YEARLY;BYDAY=-1SU;BYMONTH=3
END:DAYLIGHT
BEGIN:STANDARD
TZOFFSETFROM:+0200
TZOFFSETTO:+0100
TZNAME:CET
DTSTART:19701025T030000
RRULE:FREQ=YEARLY;BYDAY=-1SU;BYMONTH=10
END:STANDARD
END:VTIMEZONE
BEGIN:VEVENT
DTEND;TZID=Europe/Berlin:20260331T220000
UID:69e95884d578e
DTSTAMP:20260423T012348
LOCATION:Soziokulturelles Zentrum Isy7\, Isenstedter Str. 7\, Espelkamp
DESCRIPTION:An diesem Dienstagabend gehört das Isy7 wieder den GAMER*innen! Ihr habt die Möglichkeit an verschiedenen Konsolen zu zocken oder auch eure eigene Konsole mitzubringen. Neben Nintendo Switch\, Playstation 4 oder Playstation 5 könnt Ihr - wie in einer kleinen Zeitreise- auch die ersten Nintendo-Konsolen\, wie beispielweise die Nintendo64 aus dem Jahr 1997 spielen.  Als Highlight ist auch dieses Mal wieder Roman von RG-Gaming mit VR/AR dabei. \r\n\r\nUm 19:30 Uhr startet entweder ein kleines Smash-Bros Turnier auf der Switch oder ein FIFA-Turnier - das entscheidet ihr. Natürlich gibt es coole Preise zu gewinnen! Für kleine kostenlose Snacks und kostenloses Wasser wird gesorgt. Pommes\, Sandwichs oder Softdrinks könnt ihr zu kleinen Preisen in unserem Bistro erwerben. \r\n
URL;VALUE=URI:https://www.unser-ferienprogramm.de/espelkamp/veranstaltung.php?id=302580
SUMMARY:Gaming Night
DTSTART;TZID=Europe/Berlin:20260331T160000
END:VEVENT

END:VCALENDAR
