BEGIN:VCALENDAR
VERSION:2.0
PRODID:-//hacksw/handcal//NONSGML v1.0//EN
CALSCALE:GREGORIAN
BEGIN:VTIMEZONE
TZID:Europe/Berlin
X-LIC-LOCATION:Europe/Berlin
BEGIN:DAYLIGHT
TZOFFSETFROM:+0100
TZOFFSETTO:+0200
TZNAME:CEST
DTSTART:19700329T020000
RRULE:FREQ=YEARLY;BYDAY=-1SU;BYMONTH=3
END:DAYLIGHT
BEGIN:STANDARD
TZOFFSETFROM:+0200
TZOFFSETTO:+0100
TZNAME:CET
DTSTART:19701025T030000
RRULE:FREQ=YEARLY;BYDAY=-1SU;BYMONTH=10
END:STANDARD
END:VTIMEZONE
BEGIN:VEVENT
DTEND;TZID=Europe/Berlin:20260330T210000
UID:69e9544b48a35
DTSTAMP:20260423T010547
LOCATION:Soziokulturelles Zentrum Isy7\, Isenstedter Str. 7\, Espelkamp
DESCRIPTION:Der Japan-Tag war noch nicht genug? In den Osterferien wird das Isy7 erneut zur Anime-Zone!\r\nBei unserer Anime Night kochen wir gemeinsam leckeres Essen\, werden kreativ beim Basteln und lassen den Abend anschließend gemütlich mit zwei Anime-Filmen ausklingen. \r\n\r\nEgal ob Anime-Fan oder einfach neugierig – komm vorbei\, bring gute Laune mit und erlebe einen entspannten\, kreativen Ferienabend mit anderen Jugendlichen!\r\n
URL;VALUE=URI:https://www.unser-ferienprogramm.de/espelkamp/veranstaltung.php?id=302579
SUMMARY:Anime Night
DTSTART;TZID=Europe/Berlin:20260330T170000
END:VEVENT

END:VCALENDAR
