BEGIN:VCALENDAR
VERSION:2.0
PRODID:-//hacksw/handcal//NONSGML v1.0//EN
CALSCALE:GREGORIAN
BEGIN:VTIMEZONE
TZID:Europe/Berlin
X-LIC-LOCATION:Europe/Berlin
BEGIN:DAYLIGHT
TZOFFSETFROM:+0100
TZOFFSETTO:+0200
TZNAME:CEST
DTSTART:19700329T020000
RRULE:FREQ=YEARLY;BYDAY=-1SU;BYMONTH=3
END:DAYLIGHT
BEGIN:STANDARD
TZOFFSETFROM:+0200
TZOFFSETTO:+0100
TZNAME:CET
DTSTART:19701025T030000
RRULE:FREQ=YEARLY;BYDAY=-1SU;BYMONTH=10
END:STANDARD
END:VTIMEZONE
BEGIN:VEVENT
DTEND;TZID=Europe/Berlin:20261010T000000
UID:69e926804f5f8
DTSTAMP:20260422T215024
LOCATION:Soziokulturelles Zentrum Isy7\, Isenstedter Str. 7\, Espelkamp
DESCRIPTION:An diesem Tag gehört das Isy7 ganz den Mädels* ab 10 Jahren aus dem Kreis Minden-Lübbecke. \r\nAngebote\, Aktionen und Disco von und mit vielen Akteuren der Kinder- und Jugendarbeit im Kreis. \r\n\r\n
URL;VALUE=URI:https://www.unser-ferienprogramm.de/espelkamp/veranstaltung.php?id=302498
SUMMARY:VORHINWEIS: Mädchen*festival 2026
DTSTART;TZID=Europe/Berlin:20261010T000000
END:VEVENT

END:VCALENDAR
