BEGIN:VCALENDAR
VERSION:2.0
PRODID:-//hacksw/handcal//NONSGML v1.0//EN
CALSCALE:GREGORIAN
BEGIN:VTIMEZONE
TZID:Europe/Berlin
X-LIC-LOCATION:Europe/Berlin
BEGIN:DAYLIGHT
TZOFFSETFROM:+0100
TZOFFSETTO:+0200
TZNAME:CEST
DTSTART:19700329T020000
RRULE:FREQ=YEARLY;BYDAY=-1SU;BYMONTH=3
END:DAYLIGHT
BEGIN:STANDARD
TZOFFSETFROM:+0200
TZOFFSETTO:+0100
TZNAME:CET
DTSTART:19701025T030000
RRULE:FREQ=YEARLY;BYDAY=-1SU;BYMONTH=10
END:STANDARD
END:VTIMEZONE
BEGIN:VEVENT
DTEND;TZID=Europe/Berlin:20261020T174500
UID:69e93de8d0f49
DTSTAMP:20260422T233016
LOCATION:FEBG Espelkamp\, General-Bishop-Straße 52\, Espelkamp
DESCRIPTION:Das Angebot besteht immer aus einer Veranstaltung mit Singen\, Anspiel und Geschichten (ca. 60 Minuten). Dazu werden folgende Dinge altersgerecht in der jeweiligen Altersgruppe angeboten: Backen\, Basteln\, Sport (ca. 90 Minuten). \r\n\r\nSonntag Abschluss-Gottesdienst.
URL;VALUE=URI:https://www.unser-ferienprogramm.de/espelkamp/veranstaltung.php?id=302491
SUMMARY:Entdeckerwoche
DTSTART;TZID=Europe/Berlin:20261020T150000
END:VEVENT


BEGIN:VEVENT
DTEND;TZID=Europe/Berlin:20261021T174500
UID:69e93de8d0f611
DTSTAMP:20260422T233016
LOCATION:FEBG Espelkamp\, General-Bishop-Straße 52\, Espelkamp
DESCRIPTION:Das Angebot besteht immer aus einer Veranstaltung mit Singen\, Anspiel und Geschichten (ca. 60 Minuten). Dazu werden folgende Dinge altersgerecht in der jeweiligen Altersgruppe angeboten: Backen\, Basteln\, Sport (ca. 90 Minuten). \r\n\r\nSonntag Abschluss-Gottesdienst.
URL;VALUE=URI:https://www.unser-ferienprogramm.de/espelkamp/veranstaltung.php?id=302491
SUMMARY:Entdeckerwoche
DTSTART;TZID=Europe/Berlin:20261021T150000
END:VEVENT


BEGIN:VEVENT
DTEND;TZID=Europe/Berlin:20261022T174500
UID:69e93de8d0f6e2
DTSTAMP:20260422T233016
LOCATION:FEBG Espelkamp\, General-Bishop-Straße 52\, Espelkamp
DESCRIPTION:Das Angebot besteht immer aus einer Veranstaltung mit Singen\, Anspiel und Geschichten (ca. 60 Minuten). Dazu werden folgende Dinge altersgerecht in der jeweiligen Altersgruppe angeboten: Backen\, Basteln\, Sport (ca. 90 Minuten). \r\n\r\nSonntag Abschluss-Gottesdienst.
URL;VALUE=URI:https://www.unser-ferienprogramm.de/espelkamp/veranstaltung.php?id=302491
SUMMARY:Entdeckerwoche
DTSTART;TZID=Europe/Berlin:20261022T150000
END:VEVENT


BEGIN:VEVENT
DTEND;TZID=Europe/Berlin:20261023T174500
UID:69e93de8d0f783
DTSTAMP:20260422T233016
LOCATION:FEBG Espelkamp\, General-Bishop-Straße 52\, Espelkamp
DESCRIPTION:Das Angebot besteht immer aus einer Veranstaltung mit Singen\, Anspiel und Geschichten (ca. 60 Minuten). Dazu werden folgende Dinge altersgerecht in der jeweiligen Altersgruppe angeboten: Backen\, Basteln\, Sport (ca. 90 Minuten). \r\n\r\nSonntag Abschluss-Gottesdienst.
URL;VALUE=URI:https://www.unser-ferienprogramm.de/espelkamp/veranstaltung.php?id=302491
SUMMARY:Entdeckerwoche
DTSTART;TZID=Europe/Berlin:20261023T150000
END:VEVENT


BEGIN:VEVENT
DTEND;TZID=Europe/Berlin:20261024T130000
UID:69e93de8d0f814
DTSTAMP:20260422T233016
LOCATION:FEBG Espelkamp\, General-Bishop-Straße 52\, Espelkamp
DESCRIPTION:Das Angebot besteht immer aus einer Veranstaltung mit Singen\, Anspiel und Geschichten (ca. 60 Minuten). Dazu werden folgende Dinge altersgerecht in der jeweiligen Altersgruppe angeboten: Backen\, Basteln\, Sport (ca. 90 Minuten). \r\n\r\nSonntag Abschluss-Gottesdienst.
URL;VALUE=URI:https://www.unser-ferienprogramm.de/espelkamp/veranstaltung.php?id=302491
SUMMARY:Entdeckerwoche
DTSTART;TZID=Europe/Berlin:20261024T110000
END:VEVENT


BEGIN:VEVENT
DTEND;TZID=Europe/Berlin:20261025T120000
UID:69e93de8d0f8a5
DTSTAMP:20260422T233016
LOCATION:FEBG Espelkamp\, General-Bishop-Straße 52\, Espelkamp
DESCRIPTION:Das Angebot besteht immer aus einer Veranstaltung mit Singen\, Anspiel und Geschichten (ca. 60 Minuten). Dazu werden folgende Dinge altersgerecht in der jeweiligen Altersgruppe angeboten: Backen\, Basteln\, Sport (ca. 90 Minuten). \r\n\r\nSonntag Abschluss-Gottesdienst.
URL;VALUE=URI:https://www.unser-ferienprogramm.de/espelkamp/veranstaltung.php?id=302491
SUMMARY:Entdeckerwoche
DTSTART;TZID=Europe/Berlin:20261025T100000
END:VEVENT

END:VCALENDAR
