BEGIN:VCALENDAR
VERSION:2.0
PRODID:-//hacksw/handcal//NONSGML v1.0//EN
CALSCALE:GREGORIAN
BEGIN:VTIMEZONE
TZID:Europe/Berlin
X-LIC-LOCATION:Europe/Berlin
BEGIN:DAYLIGHT
TZOFFSETFROM:+0100
TZOFFSETTO:+0200
TZNAME:CEST
DTSTART:19700329T020000
RRULE:FREQ=YEARLY;BYDAY=-1SU;BYMONTH=3
END:DAYLIGHT
BEGIN:STANDARD
TZOFFSETFROM:+0200
TZOFFSETTO:+0100
TZNAME:CET
DTSTART:19701025T030000
RRULE:FREQ=YEARLY;BYDAY=-1SU;BYMONTH=10
END:STANDARD
END:VTIMEZONE
BEGIN:VEVENT
DTEND;TZID=Europe/Berlin:20260408T180000
UID:69e95883ecb73
DTSTAMP:20260423T012347
LOCATION:Mennoniten Gemeinde Espelkamp\, John-Gingerich-Straße 1\, Espelkamp
DESCRIPTION:Was ist das Thema? Freddy und Tine erforschen eine alte Burgruine und nehmen die Kinder mit auf eine spannende Rätseltour rund um Türme\, Mauern und Geheimnisse. Dabei entdecken sie: Schon König David hat Gott als starke Burg in seinem Leben erlebt. Wir hören seine Geschichte und erfahren\, wie sich Vertrauen auf Gott lohnt – damals wie heute.\r\n\r\nWie sieht ein KiBi Tag aus? Vorprogramm mit Musik und einem Theaterstück\, Bauzeiten mit einer Holzbauwelt\, biblische Geschichte\, kreativ austoben und einen Snack gibt es zwischendurch.\r\n\r\nAm Sonntag findet um 10:00 Uhr der Abschlussgottesdienst der KiBi statt. Dazu sind auch alle Eltern herzlich eingeladen.
URL;VALUE=URI:https://www.unser-ferienprogramm.de/espelkamp/veranstaltung.php?id=302487
SUMMARY:Kinderbibelwoche (KiBi) 2026 - AUSGEBUCHT
DTSTART;TZID=Europe/Berlin:20260408T143000
END:VEVENT


BEGIN:VEVENT
DTEND;TZID=Europe/Berlin:20260409T180000
UID:69e95883ecbbd1
DTSTAMP:20260423T012347
LOCATION:Mennoniten Gemeinde Espelkamp\, John-Gingerich-Straße 1\, Espelkamp
DESCRIPTION:Was ist das Thema? Freddy und Tine erforschen eine alte Burgruine und nehmen die Kinder mit auf eine spannende Rätseltour rund um Türme\, Mauern und Geheimnisse. Dabei entdecken sie: Schon König David hat Gott als starke Burg in seinem Leben erlebt. Wir hören seine Geschichte und erfahren\, wie sich Vertrauen auf Gott lohnt – damals wie heute.\r\n\r\nWie sieht ein KiBi Tag aus? Vorprogramm mit Musik und einem Theaterstück\, Bauzeiten mit einer Holzbauwelt\, biblische Geschichte\, kreativ austoben und einen Snack gibt es zwischendurch.\r\n\r\nAm Sonntag findet um 10:00 Uhr der Abschlussgottesdienst der KiBi statt. Dazu sind auch alle Eltern herzlich eingeladen.
URL;VALUE=URI:https://www.unser-ferienprogramm.de/espelkamp/veranstaltung.php?id=302487
SUMMARY:Kinderbibelwoche (KiBi) 2026 - AUSGEBUCHT
DTSTART;TZID=Europe/Berlin:20260409T143000
END:VEVENT


BEGIN:VEVENT
DTEND;TZID=Europe/Berlin:20260410T180000
UID:69e95883ecbcd2
DTSTAMP:20260423T012347
LOCATION:Mennoniten Gemeinde Espelkamp\, John-Gingerich-Straße 1\, Espelkamp
DESCRIPTION:Was ist das Thema? Freddy und Tine erforschen eine alte Burgruine und nehmen die Kinder mit auf eine spannende Rätseltour rund um Türme\, Mauern und Geheimnisse. Dabei entdecken sie: Schon König David hat Gott als starke Burg in seinem Leben erlebt. Wir hören seine Geschichte und erfahren\, wie sich Vertrauen auf Gott lohnt – damals wie heute.\r\n\r\nWie sieht ein KiBi Tag aus? Vorprogramm mit Musik und einem Theaterstück\, Bauzeiten mit einer Holzbauwelt\, biblische Geschichte\, kreativ austoben und einen Snack gibt es zwischendurch.\r\n\r\nAm Sonntag findet um 10:00 Uhr der Abschlussgottesdienst der KiBi statt. Dazu sind auch alle Eltern herzlich eingeladen.
URL;VALUE=URI:https://www.unser-ferienprogramm.de/espelkamp/veranstaltung.php?id=302487
SUMMARY:Kinderbibelwoche (KiBi) 2026 - AUSGEBUCHT
DTSTART;TZID=Europe/Berlin:20260410T143000
END:VEVENT


BEGIN:VEVENT
DTEND;TZID=Europe/Berlin:20260411T180000
UID:69e95883ecbdb3
DTSTAMP:20260423T012347
LOCATION:Mennoniten Gemeinde Espelkamp\, John-Gingerich-Straße 1\, Espelkamp
DESCRIPTION:Was ist das Thema? Freddy und Tine erforschen eine alte Burgruine und nehmen die Kinder mit auf eine spannende Rätseltour rund um Türme\, Mauern und Geheimnisse. Dabei entdecken sie: Schon König David hat Gott als starke Burg in seinem Leben erlebt. Wir hören seine Geschichte und erfahren\, wie sich Vertrauen auf Gott lohnt – damals wie heute.\r\n\r\nWie sieht ein KiBi Tag aus? Vorprogramm mit Musik und einem Theaterstück\, Bauzeiten mit einer Holzbauwelt\, biblische Geschichte\, kreativ austoben und einen Snack gibt es zwischendurch.\r\n\r\nAm Sonntag findet um 10:00 Uhr der Abschlussgottesdienst der KiBi statt. Dazu sind auch alle Eltern herzlich eingeladen.
URL;VALUE=URI:https://www.unser-ferienprogramm.de/espelkamp/veranstaltung.php?id=302487
SUMMARY:Kinderbibelwoche (KiBi) 2026 - AUSGEBUCHT
DTSTART;TZID=Europe/Berlin:20260411T143000
END:VEVENT


BEGIN:VEVENT
DTEND;TZID=Europe/Berlin:20260412T100000
UID:69e95883ecbe74
DTSTAMP:20260423T012347
LOCATION:Mennoniten Gemeinde Espelkamp\, John-Gingerich-Straße 1\, Espelkamp
DESCRIPTION:Was ist das Thema? Freddy und Tine erforschen eine alte Burgruine und nehmen die Kinder mit auf eine spannende Rätseltour rund um Türme\, Mauern und Geheimnisse. Dabei entdecken sie: Schon König David hat Gott als starke Burg in seinem Leben erlebt. Wir hören seine Geschichte und erfahren\, wie sich Vertrauen auf Gott lohnt – damals wie heute.\r\n\r\nWie sieht ein KiBi Tag aus? Vorprogramm mit Musik und einem Theaterstück\, Bauzeiten mit einer Holzbauwelt\, biblische Geschichte\, kreativ austoben und einen Snack gibt es zwischendurch.\r\n\r\nAm Sonntag findet um 10:00 Uhr der Abschlussgottesdienst der KiBi statt. Dazu sind auch alle Eltern herzlich eingeladen.
URL;VALUE=URI:https://www.unser-ferienprogramm.de/espelkamp/veranstaltung.php?id=302487
SUMMARY:Kinderbibelwoche (KiBi) 2026 - AUSGEBUCHT
DTSTART;TZID=Europe/Berlin:20260412T100000
END:VEVENT

END:VCALENDAR
