BEGIN:VCALENDAR
VERSION:2.0
PRODID:-//hacksw/handcal//NONSGML v1.0//EN
CALSCALE:GREGORIAN
BEGIN:VTIMEZONE
TZID:Europe/Berlin
X-LIC-LOCATION:Europe/Berlin
BEGIN:DAYLIGHT
TZOFFSETFROM:+0100
TZOFFSETTO:+0200
TZNAME:CEST
DTSTART:19700329T020000
RRULE:FREQ=YEARLY;BYDAY=-1SU;BYMONTH=3
END:DAYLIGHT
BEGIN:STANDARD
TZOFFSETFROM:+0200
TZOFFSETTO:+0100
TZNAME:CET
DTSTART:19701025T030000
RRULE:FREQ=YEARLY;BYDAY=-1SU;BYMONTH=10
END:STANDARD
END:VTIMEZONE
BEGIN:VEVENT
DTEND;TZID=Europe/Berlin:20260410T140000
UID:69e958005845c
DTSTAMP:20260423T012136
LOCATION:Vereinsheim am Sportplatz Vehlage\, Vehlager Str. 32\, Espelkamp
DESCRIPTION:Das Dartsturnier für Familien - Spiel mit deiner Mutter oder deinem Vater (oder beide) gegen andere "Familienteams" und messt euch in spannenden Matches!
URL;VALUE=URI:https://www.unser-ferienprogramm.de/espelkamp/veranstaltung.php?id=302000
SUMMARY:Eltern-Kind Dartturnier
DTSTART;TZID=Europe/Berlin:20260410T140000
END:VEVENT

END:VCALENDAR
