BEGIN:VCALENDAR
VERSION:2.0
PRODID:-//hacksw/handcal//NONSGML v1.0//EN
CALSCALE:GREGORIAN
BEGIN:VTIMEZONE
TZID:Europe/Berlin
X-LIC-LOCATION:Europe/Berlin
BEGIN:DAYLIGHT
TZOFFSETFROM:+0100
TZOFFSETTO:+0200
TZNAME:CEST
DTSTART:19700329T020000
RRULE:FREQ=YEARLY;BYDAY=-1SU;BYMONTH=3
END:DAYLIGHT
BEGIN:STANDARD
TZOFFSETFROM:+0200
TZOFFSETTO:+0100
TZNAME:CET
DTSTART:19701025T030000
RRULE:FREQ=YEARLY;BYDAY=-1SU;BYMONTH=10
END:STANDARD
END:VTIMEZONE
BEGIN:VEVENT
DTEND;TZID=Europe/Berlin:20260411T180000
UID:69e958cbab512
DTSTAMP:20260423T012459
LOCATION:Sportplatz Vehlage\, Vehlager Str. 32\, Espelkamp
DESCRIPTION:Du spielst nicht im Verein und möchtest einmal ausprobieren\, ob dir Fußball Spaß macht? Du kickst ab und zu mit Freundinnen oder Freunden und möchtest einmal mit anderen spielen und dazu von einem Trainer hilfreiche Tipps bekommen? Egal ob Mädchen oder Junge - wenn du noch kein "Profi" bist\, bist du hier genau richtig!
URL;VALUE=URI:https://www.unser-ferienprogramm.de/espelkamp/veranstaltung.php?id=301999
SUMMARY:Fußball-Schnuppertag
DTSTART;TZID=Europe/Berlin:20260411T150000
END:VEVENT

END:VCALENDAR
