BEGIN:VCALENDAR
VERSION:2.0
PRODID:-//hacksw/handcal//NONSGML v1.0//EN
CALSCALE:GREGORIAN
BEGIN:VTIMEZONE
TZID:Europe/Berlin
X-LIC-LOCATION:Europe/Berlin
BEGIN:DAYLIGHT
TZOFFSETFROM:+0100
TZOFFSETTO:+0200
TZNAME:CEST
DTSTART:19700329T020000
RRULE:FREQ=YEARLY;BYDAY=-1SU;BYMONTH=3
END:DAYLIGHT
BEGIN:STANDARD
TZOFFSETFROM:+0200
TZOFFSETTO:+0100
TZNAME:CET
DTSTART:19701025T030000
RRULE:FREQ=YEARLY;BYDAY=-1SU;BYMONTH=10
END:STANDARD
END:VTIMEZONE
BEGIN:VEVENT
DTEND;TZID=Europe/Berlin:20260409T140000
UID:69e958c6e37b9
DTSTAMP:20260423T012454
LOCATION:Vereinsreithalle Espelkamp\, Zum Kleihügel 6\, Espelkamp
DESCRIPTION:Erlebe das unbeschreibliche Gefühl\, dich einem so starken Wesen anzuvertrauen und die Welt von oben zu betrachten. Setz dich doch einfach einmal ohne Sattel aufs Pferd\, spüre die kraftvolle Bewegung der Muskeln und nimm die Wärme des Pferdekörpers wahr. Du wirst dich von diesem wundervollen Lebewesen beschützt und behütet fühlen.\r\n\r\nWir freuen uns\, dich in unserer pferdeverrückten Welt zu begrüßen. Erlebe ein paar unvergessliche Stunden mit Pferden\, lerne den richtigen Umgang mit ihnen\, fühle das besondere "Etwas"\, wenn du reitest. Spiel und Spaß werden mit deinem "Partner Pferd" nicht zu kurz kommen. Für Getränke und kleine Mahlzeiten sorgen wir.\r\n
URL;VALUE=URI:https://www.unser-ferienprogramm.de/espelkamp/veranstaltung.php?id=301996
SUMMARY:Das Glück der Kinder liegt auf dem Rücken der Pferde - Eins sein mit dem Pferd
DTSTART;TZID=Europe/Berlin:20260409T090000
END:VEVENT

END:VCALENDAR
