BEGIN:VCALENDAR
VERSION:2.0
PRODID:-//hacksw/handcal//NONSGML v1.0//EN
CALSCALE:GREGORIAN
BEGIN:VTIMEZONE
TZID:Europe/Berlin
X-LIC-LOCATION:Europe/Berlin
BEGIN:DAYLIGHT
TZOFFSETFROM:+0100
TZOFFSETTO:+0200
TZNAME:CEST
DTSTART:19700329T020000
RRULE:FREQ=YEARLY;BYDAY=-1SU;BYMONTH=3
END:DAYLIGHT
BEGIN:STANDARD
TZOFFSETFROM:+0200
TZOFFSETTO:+0100
TZNAME:CET
DTSTART:19701025T030000
RRULE:FREQ=YEARLY;BYDAY=-1SU;BYMONTH=10
END:STANDARD
END:VTIMEZONE
BEGIN:VEVENT
DTEND;TZID=Europe/Berlin:20260727T150000
UID:69e926684e1ea
DTSTAMP:20260422T215000
LOCATION:Ev. Gemeindehaus Isenstedt\, Kirchstraße 33\, Espelkamp
DESCRIPTION:Eine Woche voller Action\, Spaß und Gemeinschaft!\r\n\r\nEndlich Ferien - und das heißt: zeit zum Toben\, Lachen und zusammen Spielen. Bei unseren Ferienspielen erwarten euch eine Woche voller spannender Abenteuer und toller Erlebnisse. Gemeinsam werden wir Bibelgeschichten entdecken\, basteln\, kreativ sein und erleben\, wie schön es ist\, Gemeinschaft zu erfahren. Also: Sei dabei\, wenn es heißt: Ferienspiele mit Herz\, Spaß und ganz viel Bewegung!\r\n\r\nEs kann eine oder es können beide Wochen gebucht werden.\r\nTäglich von 9:00 bis 15:00 Uhr - Randbetreuung ab 8:00 Uhr
URL;VALUE=URI:https://www.unser-ferienprogramm.de/espelkamp/veranstaltung.php?id=301995
SUMMARY:Ferienspiele in Isenstedt (Woche 2)
DTSTART;TZID=Europe/Berlin:20260727T090000
END:VEVENT


BEGIN:VEVENT
DTEND;TZID=Europe/Berlin:20260728T150000
UID:69e926684e22a1
DTSTAMP:20260422T215000
LOCATION:Ev. Gemeindehaus Isenstedt\, Kirchstraße 33\, Espelkamp
DESCRIPTION:Eine Woche voller Action\, Spaß und Gemeinschaft!\r\n\r\nEndlich Ferien - und das heißt: zeit zum Toben\, Lachen und zusammen Spielen. Bei unseren Ferienspielen erwarten euch eine Woche voller spannender Abenteuer und toller Erlebnisse. Gemeinsam werden wir Bibelgeschichten entdecken\, basteln\, kreativ sein und erleben\, wie schön es ist\, Gemeinschaft zu erfahren. Also: Sei dabei\, wenn es heißt: Ferienspiele mit Herz\, Spaß und ganz viel Bewegung!\r\n\r\nEs kann eine oder es können beide Wochen gebucht werden.\r\nTäglich von 9:00 bis 15:00 Uhr - Randbetreuung ab 8:00 Uhr
URL;VALUE=URI:https://www.unser-ferienprogramm.de/espelkamp/veranstaltung.php?id=301995
SUMMARY:Ferienspiele in Isenstedt (Woche 2)
DTSTART;TZID=Europe/Berlin:20260728T090000
END:VEVENT


BEGIN:VEVENT
DTEND;TZID=Europe/Berlin:20260729T150000
UID:69e926684e2392
DTSTAMP:20260422T215000
LOCATION:Ev. Gemeindehaus Isenstedt\, Kirchstraße 33\, Espelkamp
DESCRIPTION:Eine Woche voller Action\, Spaß und Gemeinschaft!\r\n\r\nEndlich Ferien - und das heißt: zeit zum Toben\, Lachen und zusammen Spielen. Bei unseren Ferienspielen erwarten euch eine Woche voller spannender Abenteuer und toller Erlebnisse. Gemeinsam werden wir Bibelgeschichten entdecken\, basteln\, kreativ sein und erleben\, wie schön es ist\, Gemeinschaft zu erfahren. Also: Sei dabei\, wenn es heißt: Ferienspiele mit Herz\, Spaß und ganz viel Bewegung!\r\n\r\nEs kann eine oder es können beide Wochen gebucht werden.\r\nTäglich von 9:00 bis 15:00 Uhr - Randbetreuung ab 8:00 Uhr
URL;VALUE=URI:https://www.unser-ferienprogramm.de/espelkamp/veranstaltung.php?id=301995
SUMMARY:Ferienspiele in Isenstedt (Woche 2)
DTSTART;TZID=Europe/Berlin:20260729T090000
END:VEVENT


BEGIN:VEVENT
DTEND;TZID=Europe/Berlin:20260730T150000
UID:69e926684e2443
DTSTAMP:20260422T215000
LOCATION:Ev. Gemeindehaus Isenstedt\, Kirchstraße 33\, Espelkamp
DESCRIPTION:Eine Woche voller Action\, Spaß und Gemeinschaft!\r\n\r\nEndlich Ferien - und das heißt: zeit zum Toben\, Lachen und zusammen Spielen. Bei unseren Ferienspielen erwarten euch eine Woche voller spannender Abenteuer und toller Erlebnisse. Gemeinsam werden wir Bibelgeschichten entdecken\, basteln\, kreativ sein und erleben\, wie schön es ist\, Gemeinschaft zu erfahren. Also: Sei dabei\, wenn es heißt: Ferienspiele mit Herz\, Spaß und ganz viel Bewegung!\r\n\r\nEs kann eine oder es können beide Wochen gebucht werden.\r\nTäglich von 9:00 bis 15:00 Uhr - Randbetreuung ab 8:00 Uhr
URL;VALUE=URI:https://www.unser-ferienprogramm.de/espelkamp/veranstaltung.php?id=301995
SUMMARY:Ferienspiele in Isenstedt (Woche 2)
DTSTART;TZID=Europe/Berlin:20260730T090000
END:VEVENT


BEGIN:VEVENT
DTEND;TZID=Europe/Berlin:20260731T150000
UID:69e926684e24f4
DTSTAMP:20260422T215000
LOCATION:Ev. Gemeindehaus Isenstedt\, Kirchstraße 33\, Espelkamp
DESCRIPTION:Eine Woche voller Action\, Spaß und Gemeinschaft!\r\n\r\nEndlich Ferien - und das heißt: zeit zum Toben\, Lachen und zusammen Spielen. Bei unseren Ferienspielen erwarten euch eine Woche voller spannender Abenteuer und toller Erlebnisse. Gemeinsam werden wir Bibelgeschichten entdecken\, basteln\, kreativ sein und erleben\, wie schön es ist\, Gemeinschaft zu erfahren. Also: Sei dabei\, wenn es heißt: Ferienspiele mit Herz\, Spaß und ganz viel Bewegung!\r\n\r\nEs kann eine oder es können beide Wochen gebucht werden.\r\nTäglich von 9:00 bis 15:00 Uhr - Randbetreuung ab 8:00 Uhr
URL;VALUE=URI:https://www.unser-ferienprogramm.de/espelkamp/veranstaltung.php?id=301995
SUMMARY:Ferienspiele in Isenstedt (Woche 2)
DTSTART;TZID=Europe/Berlin:20260731T090000
END:VEVENT

END:VCALENDAR
