BEGIN:VCALENDAR
VERSION:2.0
PRODID:-//hacksw/handcal//NONSGML v1.0//EN
CALSCALE:GREGORIAN
BEGIN:VTIMEZONE
TZID:Europe/Berlin
X-LIC-LOCATION:Europe/Berlin
BEGIN:DAYLIGHT
TZOFFSETFROM:+0100
TZOFFSETTO:+0200
TZNAME:CEST
DTSTART:19700329T020000
RRULE:FREQ=YEARLY;BYDAY=-1SU;BYMONTH=3
END:DAYLIGHT
BEGIN:STANDARD
TZOFFSETFROM:+0200
TZOFFSETTO:+0100
TZNAME:CET
DTSTART:19701025T030000
RRULE:FREQ=YEARLY;BYDAY=-1SU;BYMONTH=10
END:STANDARD
END:VTIMEZONE
BEGIN:VEVENT
DTEND;TZID=Europe/Berlin:20260720T150000
UID:69e92658c6bf7
DTSTAMP:20260422T214944
LOCATION:Ev. Gemeindehaus Isenstedt\, Kirchstraße 33\, Espelkamp
DESCRIPTION:Eine Woche voller Action\, Spaß und Gemeinschaft!\r\n\r\nEndlich Ferien - und das heißt: Zeit zum Toben\, Lachen und zusammen Spielen. Bei unseren Ferienspielen erwarten euch eine Woche voller spannender Abenteuer und toller Erlebnisse. Gemeinsam werden wir Bibelgeschichten entdecken\, basteln\, kreativ sein und erleben\, wie schön es ist\, Gemeinschaft zu erfahren. Also: Sei dabei\, wenn es heißt: Ferienspiele mit Herz\, Spaß und ganz viel Bewegung!\r\n\r\nEs kann eine oder es können beide Wochen gebucht werden.\r\nTäglich von 9:00 bis 15:00 Uhr - Randbetreuung ab 8:00 Uhr
URL;VALUE=URI:https://www.unser-ferienprogramm.de/espelkamp/veranstaltung.php?id=301989
SUMMARY:Ferienspiele in Isenstedt (Woche 1)
DTSTART;TZID=Europe/Berlin:20260720T090000
END:VEVENT


BEGIN:VEVENT
DTEND;TZID=Europe/Berlin:20260721T150000
UID:69e92658c6c3f1
DTSTAMP:20260422T214944
LOCATION:Ev. Gemeindehaus Isenstedt\, Kirchstraße 33\, Espelkamp
DESCRIPTION:Eine Woche voller Action\, Spaß und Gemeinschaft!\r\n\r\nEndlich Ferien - und das heißt: Zeit zum Toben\, Lachen und zusammen Spielen. Bei unseren Ferienspielen erwarten euch eine Woche voller spannender Abenteuer und toller Erlebnisse. Gemeinsam werden wir Bibelgeschichten entdecken\, basteln\, kreativ sein und erleben\, wie schön es ist\, Gemeinschaft zu erfahren. Also: Sei dabei\, wenn es heißt: Ferienspiele mit Herz\, Spaß und ganz viel Bewegung!\r\n\r\nEs kann eine oder es können beide Wochen gebucht werden.\r\nTäglich von 9:00 bis 15:00 Uhr - Randbetreuung ab 8:00 Uhr
URL;VALUE=URI:https://www.unser-ferienprogramm.de/espelkamp/veranstaltung.php?id=301989
SUMMARY:Ferienspiele in Isenstedt (Woche 1)
DTSTART;TZID=Europe/Berlin:20260721T090000
END:VEVENT


BEGIN:VEVENT
DTEND;TZID=Europe/Berlin:20260722T150000
UID:69e92658c6c4f2
DTSTAMP:20260422T214944
LOCATION:Ev. Gemeindehaus Isenstedt\, Kirchstraße 33\, Espelkamp
DESCRIPTION:Eine Woche voller Action\, Spaß und Gemeinschaft!\r\n\r\nEndlich Ferien - und das heißt: Zeit zum Toben\, Lachen und zusammen Spielen. Bei unseren Ferienspielen erwarten euch eine Woche voller spannender Abenteuer und toller Erlebnisse. Gemeinsam werden wir Bibelgeschichten entdecken\, basteln\, kreativ sein und erleben\, wie schön es ist\, Gemeinschaft zu erfahren. Also: Sei dabei\, wenn es heißt: Ferienspiele mit Herz\, Spaß und ganz viel Bewegung!\r\n\r\nEs kann eine oder es können beide Wochen gebucht werden.\r\nTäglich von 9:00 bis 15:00 Uhr - Randbetreuung ab 8:00 Uhr
URL;VALUE=URI:https://www.unser-ferienprogramm.de/espelkamp/veranstaltung.php?id=301989
SUMMARY:Ferienspiele in Isenstedt (Woche 1)
DTSTART;TZID=Europe/Berlin:20260722T090000
END:VEVENT


BEGIN:VEVENT
DTEND;TZID=Europe/Berlin:20260723T150000
UID:69e92658c6c6a3
DTSTAMP:20260422T214944
LOCATION:Ev. Gemeindehaus Isenstedt\, Kirchstraße 33\, Espelkamp
DESCRIPTION:Eine Woche voller Action\, Spaß und Gemeinschaft!\r\n\r\nEndlich Ferien - und das heißt: Zeit zum Toben\, Lachen und zusammen Spielen. Bei unseren Ferienspielen erwarten euch eine Woche voller spannender Abenteuer und toller Erlebnisse. Gemeinsam werden wir Bibelgeschichten entdecken\, basteln\, kreativ sein und erleben\, wie schön es ist\, Gemeinschaft zu erfahren. Also: Sei dabei\, wenn es heißt: Ferienspiele mit Herz\, Spaß und ganz viel Bewegung!\r\n\r\nEs kann eine oder es können beide Wochen gebucht werden.\r\nTäglich von 9:00 bis 15:00 Uhr - Randbetreuung ab 8:00 Uhr
URL;VALUE=URI:https://www.unser-ferienprogramm.de/espelkamp/veranstaltung.php?id=301989
SUMMARY:Ferienspiele in Isenstedt (Woche 1)
DTSTART;TZID=Europe/Berlin:20260723T090000
END:VEVENT


BEGIN:VEVENT
DTEND;TZID=Europe/Berlin:20260724T150000
UID:69e92658c6c754
DTSTAMP:20260422T214944
LOCATION:Ev. Gemeindehaus Isenstedt\, Kirchstraße 33\, Espelkamp
DESCRIPTION:Eine Woche voller Action\, Spaß und Gemeinschaft!\r\n\r\nEndlich Ferien - und das heißt: Zeit zum Toben\, Lachen und zusammen Spielen. Bei unseren Ferienspielen erwarten euch eine Woche voller spannender Abenteuer und toller Erlebnisse. Gemeinsam werden wir Bibelgeschichten entdecken\, basteln\, kreativ sein und erleben\, wie schön es ist\, Gemeinschaft zu erfahren. Also: Sei dabei\, wenn es heißt: Ferienspiele mit Herz\, Spaß und ganz viel Bewegung!\r\n\r\nEs kann eine oder es können beide Wochen gebucht werden.\r\nTäglich von 9:00 bis 15:00 Uhr - Randbetreuung ab 8:00 Uhr
URL;VALUE=URI:https://www.unser-ferienprogramm.de/espelkamp/veranstaltung.php?id=301989
SUMMARY:Ferienspiele in Isenstedt (Woche 1)
DTSTART;TZID=Europe/Berlin:20260724T090000
END:VEVENT

END:VCALENDAR
