BEGIN:VCALENDAR
VERSION:2.0
PRODID:-//hacksw/handcal//NONSGML v1.0//EN
CALSCALE:GREGORIAN
BEGIN:VTIMEZONE
TZID:Europe/Berlin
X-LIC-LOCATION:Europe/Berlin
BEGIN:DAYLIGHT
TZOFFSETFROM:+0100
TZOFFSETTO:+0200
TZNAME:CEST
DTSTART:19700329T020000
RRULE:FREQ=YEARLY;BYDAY=-1SU;BYMONTH=3
END:DAYLIGHT
BEGIN:STANDARD
TZOFFSETFROM:+0200
TZOFFSETTO:+0100
TZNAME:CET
DTSTART:19701025T030000
RRULE:FREQ=YEARLY;BYDAY=-1SU;BYMONTH=10
END:STANDARD
END:VTIMEZONE
BEGIN:VEVENT
DTEND;TZID=Europe/Berlin:20260409T130000
UID:69e95843ebcb3
DTSTAMP:20260423T012243
LOCATION:codefryx Homebase\, Am Hügel 19\, Espelkamp
DESCRIPTION:Lerne am Laptop arbeiten\, mit Scratch Junior programmieren und baue einen eigenen Roboter-Parcours! Maus bedienen\, Programme starten\, Dateien speichern\, Roboter steuern.\r\n\r\n
URL;VALUE=URI:https://www.unser-ferienprogramm.de/espelkamp/veranstaltung.php?id=301982
SUMMARY:Codefryx Tech-Lizenz - Dein digitaler Führerschein
DTSTART;TZID=Europe/Berlin:20260409T100000
END:VEVENT


BEGIN:VEVENT
DTEND;TZID=Europe/Berlin:20260410T130000
UID:69e95843ebcea1
DTSTAMP:20260423T012243
LOCATION:codefryx Homebase\, Am Hügel 19\, Espelkamp
DESCRIPTION:Lerne am Laptop arbeiten\, mit Scratch Junior programmieren und baue einen eigenen Roboter-Parcours! Maus bedienen\, Programme starten\, Dateien speichern\, Roboter steuern.\r\n\r\n
URL;VALUE=URI:https://www.unser-ferienprogramm.de/espelkamp/veranstaltung.php?id=301982
SUMMARY:Codefryx Tech-Lizenz - Dein digitaler Führerschein
DTSTART;TZID=Europe/Berlin:20260410T100000
END:VEVENT

END:VCALENDAR
