BEGIN:VCALENDAR
VERSION:2.0
PRODID:-//hacksw/handcal//NONSGML v1.0//EN
CALSCALE:GREGORIAN
BEGIN:VTIMEZONE
TZID:Europe/Berlin
X-LIC-LOCATION:Europe/Berlin
BEGIN:DAYLIGHT
TZOFFSETFROM:+0100
TZOFFSETTO:+0200
TZNAME:CEST
DTSTART:19700329T020000
RRULE:FREQ=YEARLY;BYDAY=-1SU;BYMONTH=3
END:DAYLIGHT
BEGIN:STANDARD
TZOFFSETFROM:+0200
TZOFFSETTO:+0100
TZNAME:CET
DTSTART:19701025T030000
RRULE:FREQ=YEARLY;BYDAY=-1SU;BYMONTH=10
END:STANDARD
END:VTIMEZONE
BEGIN:VEVENT
DTEND;TZID=Europe/Berlin:20260408T170000
UID:69e958845cba1
DTSTAMP:20260423T012348
LOCATION:codefryx Homebase\, Am Hügel 19\, Espelkamp
DESCRIPTION:In diesem Advanced-Camp lernen Kinder\, wie man mit ComputerCraft und der Programmiersprache Lua Computer und Roboter direkt in Minecraft steuert. Die Teilnehmerinnen und Teilnehmer schreiben eigene Programme\, lassen Roboter selbstständig arbeiten und programmieren ihre eigene Roboterfarm. Spielerisch werden Programmierlogik\, technisches Verständnis und kreatives Denken gefördert – mitten in der Minecraft-Welt.\r\n\r\n
URL;VALUE=URI:https://www.unser-ferienprogramm.de/espelkamp/veranstaltung.php?id=301981
SUMMARY:Minecraft-Advanced: ComputerCraft - Ein Einstieg in die Welt von ComputerCraft
DTSTART;TZID=Europe/Berlin:20260408T140000
END:VEVENT


BEGIN:VEVENT
DTEND;TZID=Europe/Berlin:20260409T170000
UID:69e958845cbe31
DTSTAMP:20260423T012348
LOCATION:codefryx Homebase\, Am Hügel 19\, Espelkamp
DESCRIPTION:In diesem Advanced-Camp lernen Kinder\, wie man mit ComputerCraft und der Programmiersprache Lua Computer und Roboter direkt in Minecraft steuert. Die Teilnehmerinnen und Teilnehmer schreiben eigene Programme\, lassen Roboter selbstständig arbeiten und programmieren ihre eigene Roboterfarm. Spielerisch werden Programmierlogik\, technisches Verständnis und kreatives Denken gefördert – mitten in der Minecraft-Welt.\r\n\r\n
URL;VALUE=URI:https://www.unser-ferienprogramm.de/espelkamp/veranstaltung.php?id=301981
SUMMARY:Minecraft-Advanced: ComputerCraft - Ein Einstieg in die Welt von ComputerCraft
DTSTART;TZID=Europe/Berlin:20260409T140000
END:VEVENT

END:VCALENDAR
