BEGIN:VCALENDAR
VERSION:2.0
PRODID:-//hacksw/handcal//NONSGML v1.0//EN
CALSCALE:GREGORIAN
BEGIN:VTIMEZONE
TZID:Europe/Berlin
X-LIC-LOCATION:Europe/Berlin
BEGIN:DAYLIGHT
TZOFFSETFROM:+0100
TZOFFSETTO:+0200
TZNAME:CEST
DTSTART:19700329T020000
RRULE:FREQ=YEARLY;BYDAY=-1SU;BYMONTH=3
END:DAYLIGHT
BEGIN:STANDARD
TZOFFSETFROM:+0200
TZOFFSETTO:+0100
TZNAME:CET
DTSTART:19701025T030000
RRULE:FREQ=YEARLY;BYDAY=-1SU;BYMONTH=10
END:STANDARD
END:VTIMEZONE
BEGIN:VEVENT
DTEND;TZID=Europe/Berlin:20260407T130000
UID:69e958d68e876
DTSTAMP:20260423T012510
LOCATION:codefryx Homebase\, Am Hügel 19\, Espelkamp
DESCRIPTION:Im Print your Light Camp entwickelst du deine eigene Tischlampe – von der ersten Idee am Laptop bis zum fertigen 3D-Druck. Du gestaltest dein individuelles Lampendesign\, lernst die Grundlagen des 3D-Drucks kennen und montierst die Lampe selbst. Am Ende nimmst du ein echtes Unikat mit nach Hause – eine Lampe\, die sonst niemand hat.\r\n\r\n
URL;VALUE=URI:https://www.unser-ferienprogramm.de/espelkamp/veranstaltung.php?id=301980
SUMMARY:Print your Light - Designe\, drucke und baue deine eigene Tischlampe
DTSTART;TZID=Europe/Berlin:20260407T100000
END:VEVENT


BEGIN:VEVENT
DTEND;TZID=Europe/Berlin:20260408T130000
UID:69e958d68e8ab1
DTSTAMP:20260423T012510
LOCATION:codefryx Homebase\, Am Hügel 19\, Espelkamp
DESCRIPTION:Im Print your Light Camp entwickelst du deine eigene Tischlampe – von der ersten Idee am Laptop bis zum fertigen 3D-Druck. Du gestaltest dein individuelles Lampendesign\, lernst die Grundlagen des 3D-Drucks kennen und montierst die Lampe selbst. Am Ende nimmst du ein echtes Unikat mit nach Hause – eine Lampe\, die sonst niemand hat.\r\n\r\n
URL;VALUE=URI:https://www.unser-ferienprogramm.de/espelkamp/veranstaltung.php?id=301980
SUMMARY:Print your Light - Designe\, drucke und baue deine eigene Tischlampe
DTSTART;TZID=Europe/Berlin:20260408T100000
END:VEVENT

END:VCALENDAR
