BEGIN:VCALENDAR
VERSION:2.0
PRODID:-//hacksw/handcal//NONSGML v1.0//EN
CALSCALE:GREGORIAN
BEGIN:VTIMEZONE
TZID:Europe/Berlin
X-LIC-LOCATION:Europe/Berlin
BEGIN:DAYLIGHT
TZOFFSETFROM:+0100
TZOFFSETTO:+0200
TZNAME:CEST
DTSTART:19700329T020000
RRULE:FREQ=YEARLY;BYDAY=-1SU;BYMONTH=3
END:DAYLIGHT
BEGIN:STANDARD
TZOFFSETFROM:+0200
TZOFFSETTO:+0100
TZNAME:CET
DTSTART:19701025T030000
RRULE:FREQ=YEARLY;BYDAY=-1SU;BYMONTH=10
END:STANDARD
END:VTIMEZONE
BEGIN:VEVENT
DTEND;TZID=Europe/Berlin:20260401T150000
UID:69e958d781121
DTSTAMP:20260423T012511
LOCATION:codefryx Homebase\, Am Hügel 19\, Espelkamp
DESCRIPTION:Im RoboVR-Camp entdeckst du Technik und Programmieren mit LEGO SPIKE und tauchst danach in VR- & AR-Sportwelten ein. Morgens tüftelst du an deinen eigenen Robotern und trainierst dein logisches Denken. Danach geht es aktiv weiter mit Tischtennis\, Badminton und Pickleball. Zwei spannende Tage\, die dein Köpfchen und deinen Körper in Bewegung bringen!\r\n\r\n
URL;VALUE=URI:https://www.unser-ferienprogramm.de/espelkamp/veranstaltung.php?id=301979
SUMMARY:RoboVR - Roboter bauen\, VR-Sport erleben
DTSTART;TZID=Europe/Berlin:20260401T100000
END:VEVENT


BEGIN:VEVENT
DTEND;TZID=Europe/Berlin:20260402T150000
UID:69e958d7811541
DTSTAMP:20260423T012511
LOCATION:codefryx Homebase\, Am Hügel 19\, Espelkamp
DESCRIPTION:Im RoboVR-Camp entdeckst du Technik und Programmieren mit LEGO SPIKE und tauchst danach in VR- & AR-Sportwelten ein. Morgens tüftelst du an deinen eigenen Robotern und trainierst dein logisches Denken. Danach geht es aktiv weiter mit Tischtennis\, Badminton und Pickleball. Zwei spannende Tage\, die dein Köpfchen und deinen Körper in Bewegung bringen!\r\n\r\n
URL;VALUE=URI:https://www.unser-ferienprogramm.de/espelkamp/veranstaltung.php?id=301979
SUMMARY:RoboVR - Roboter bauen\, VR-Sport erleben
DTSTART;TZID=Europe/Berlin:20260402T100000
END:VEVENT

END:VCALENDAR
