BEGIN:VCALENDAR
VERSION:2.0
PRODID:-//hacksw/handcal//NONSGML v1.0//EN
CALSCALE:GREGORIAN
BEGIN:VTIMEZONE
TZID:Europe/Berlin
X-LIC-LOCATION:Europe/Berlin
BEGIN:DAYLIGHT
TZOFFSETFROM:+0100
TZOFFSETTO:+0200
TZNAME:CEST
DTSTART:19700329T020000
RRULE:FREQ=YEARLY;BYDAY=-1SU;BYMONTH=3
END:DAYLIGHT
BEGIN:STANDARD
TZOFFSETFROM:+0200
TZOFFSETTO:+0100
TZNAME:CET
DTSTART:19701025T030000
RRULE:FREQ=YEARLY;BYDAY=-1SU;BYMONTH=10
END:STANDARD
END:VTIMEZONE
BEGIN:VEVENT
DTEND;TZID=Europe/Berlin:20260331T173000
UID:69e956dc8643f
DTSTAMP:20260423T011644
LOCATION:codefryx Homebase\, Am Hügel 19\, Espelkamp
DESCRIPTION:Tauche ein in die Welt der Künstlichen Intelligenz! Im Camp lernen Kids\, wie KI funktioniert\, wie sie trainiert wird und testen verschiedene KI-Anwendungen. Gleichzeitig sammeln sie ihre ersten Programmiererfahrungen im Survival-Game\, das speziell für unseren KI-Kurs entwickelt wurde. Ein Tag voller Experimentieren\, Spielen\, Staunen und Coding-Spaß wartet auf dich!\r\n\r\n
URL;VALUE=URI:https://www.unser-ferienprogramm.de/espelkamp/veranstaltung.php?id=301978
SUMMARY:KI & Code
DTSTART;TZID=Europe/Berlin:20260331T150000
END:VEVENT

END:VCALENDAR
