BEGIN:VCALENDAR
VERSION:2.0
PRODID:-//hacksw/handcal//NONSGML v1.0//EN
CALSCALE:GREGORIAN
BEGIN:VTIMEZONE
TZID:Europe/Berlin
X-LIC-LOCATION:Europe/Berlin
BEGIN:DAYLIGHT
TZOFFSETFROM:+0100
TZOFFSETTO:+0200
TZNAME:CEST
DTSTART:19700329T020000
RRULE:FREQ=YEARLY;BYDAY=-1SU;BYMONTH=3
END:DAYLIGHT
BEGIN:STANDARD
TZOFFSETFROM:+0200
TZOFFSETTO:+0100
TZNAME:CET
DTSTART:19701025T030000
RRULE:FREQ=YEARLY;BYDAY=-1SU;BYMONTH=10
END:STANDARD
END:VTIMEZONE
BEGIN:VEVENT
DTEND;TZID=Europe/Berlin:20260330T183000
UID:69e958d7083b8
DTSTAMP:20260423T012511
LOCATION:codefryx Homebase\, Am Hügel 19\, Espelkamp
DESCRIPTION:Du bist schon im 3D-Druck unterwegs – egal ob mit fertigen Modellen oder eigenen Designs – und hast Lust\, dein Know-how aufs nächste Level zu bringen? Dann bist du beim 3D Freaks Network genau richtig!\r\n\r\nDas offene Format richtet sich an alle ab 16 Jahren\, die bereits erste Erfahrungen im 3D-Druck gesammelt haben und sich weiterentwickeln möchten. Ob du einfach für 3D-Druck brennst oder gerade dabei bist\, neue Ideen und Projekte umzusetzen – hier triffst du Gleichgesinnte.\r\n\r\nIm Fokus steht der Austausch auf Augenhöhe: Du bringst deine Fragen\, Erfahrungen und Projekte mit\, diskutierst mit anderen und profitierst vom Wissen der Gruppe sowie von echten Experten aus der Praxis. Ohne festes Programm – dafür mit viel Raum für Networking\, gemeinsames Tüfteln und frische Impulse für deine nächsten Schritte im 3D-Druck.\r\n\r\n
URL;VALUE=URI:https://www.unser-ferienprogramm.de/espelkamp/veranstaltung.php?id=301977
SUMMARY:3D Freaks Network - kein Kurs - offener Austausch
DTSTART;TZID=Europe/Berlin:20260330T150000
END:VEVENT

END:VCALENDAR
